BEGIN:VCALENDAR
VERSION:2.0
PRODID:-//Village Arts Factory - ECPv6.15.20//NONSGML v1.0//EN
CALSCALE:GREGORIAN
METHOD:PUBLISH
X-ORIGINAL-URL:https://villageartsfactory.com
X-WR-CALDESC:Events for Village Arts Factory
REFRESH-INTERVAL;VALUE=DURATION:PT1H
X-Robots-Tag:noindex
X-PUBLISHED-TTL:PT1H
BEGIN:VTIMEZONE
TZID:America/Detroit
BEGIN:DAYLIGHT
TZOFFSETFROM:-0500
TZOFFSETTO:-0400
TZNAME:EDT
DTSTART:20240310T070000
END:DAYLIGHT
BEGIN:STANDARD
TZOFFSETFROM:-0400
TZOFFSETTO:-0500
TZNAME:EST
DTSTART:20241103T060000
END:STANDARD
BEGIN:DAYLIGHT
TZOFFSETFROM:-0500
TZOFFSETTO:-0400
TZNAME:EDT
DTSTART:20250309T070000
END:DAYLIGHT
BEGIN:STANDARD
TZOFFSETFROM:-0400
TZOFFSETTO:-0500
TZNAME:EST
DTSTART:20251102T060000
END:STANDARD
BEGIN:DAYLIGHT
TZOFFSETFROM:-0500
TZOFFSETTO:-0400
TZNAME:EDT
DTSTART:20260308T070000
END:DAYLIGHT
BEGIN:STANDARD
TZOFFSETFROM:-0400
TZOFFSETTO:-0500
TZNAME:EST
DTSTART:20261101T060000
END:STANDARD
END:VTIMEZONE
BEGIN:VEVENT
DTSTART;TZID=America/Detroit:20250719T100000
DTEND;TZID=America/Detroit:20250719T113000
DTSTAMP:20260424T013502
CREATED:20250311T190707Z
LAST-MODIFIED:20250620T142213Z
UID:2505-1752919200-1752924600@villageartsfactory.com
SUMMARY:Cherry Hill Village Art Walk
DESCRIPTION:Join us for these special Art Walks that will be held quarterly in beautiful Cherry Hill Village! \nWe’ll meet at The Village Theater where we’ll enjoy donuts and coffee and view the current exhibit at the Gallery at Cherry Hill Village\, located at 50400 Cherry Hill Road.  Next\, we’ll head to the Village Arts Factory for a short tour where we’ll end our walk enjoying the Fine Art Gallery’s current exhibit. This is a wonderful opportunity to view the beautiful art on display in Cherry Hill Village\, guided by the gallery coordinators at both facilities. All ages are welcome to attend! \nThese events are FREE and open to the public.  Pre-registration is required. \nAdditional Art Walk dates are Saturday\, May 3 and Saturday\, October 4. \nFor additional information or to register over the phone\, please contact kevin.ryan@cantonmi.gov or call 734/386-0650
URL:https://villageartsfactory.com/event/cherry-hill-village-art-walk-4/
LOCATION:Cherry Hill Village\, Canton\, MI\, 48188\, United States
CATEGORIES:Public Events
ATTACH;FMTTYPE=image/jpeg:https://villageartsfactory.com/wp-content/uploads/2025/03/2025-Art-Walks-Banner-scaled.jpg
END:VEVENT
END:VCALENDAR