BEGIN:VCALENDAR
VERSION:2.0
PRODID:-//Village Arts Factory - ECPv6.15.20//NONSGML v1.0//EN
CALSCALE:GREGORIAN
METHOD:PUBLISH
X-WR-CALNAME:Village Arts Factory
X-ORIGINAL-URL:https://villageartsfactory.com
X-WR-CALDESC:Events for Village Arts Factory
REFRESH-INTERVAL;VALUE=DURATION:PT1H
X-Robots-Tag:noindex
X-PUBLISHED-TTL:PT1H
BEGIN:VTIMEZONE
TZID:America/Detroit
BEGIN:DAYLIGHT
TZOFFSETFROM:-0500
TZOFFSETTO:-0400
TZNAME:EDT
DTSTART:20240310T070000
END:DAYLIGHT
BEGIN:STANDARD
TZOFFSETFROM:-0400
TZOFFSETTO:-0500
TZNAME:EST
DTSTART:20241103T060000
END:STANDARD
BEGIN:DAYLIGHT
TZOFFSETFROM:-0500
TZOFFSETTO:-0400
TZNAME:EDT
DTSTART:20250309T070000
END:DAYLIGHT
BEGIN:STANDARD
TZOFFSETFROM:-0400
TZOFFSETTO:-0500
TZNAME:EST
DTSTART:20251102T060000
END:STANDARD
BEGIN:DAYLIGHT
TZOFFSETFROM:-0500
TZOFFSETTO:-0400
TZNAME:EDT
DTSTART:20260308T070000
END:DAYLIGHT
BEGIN:STANDARD
TZOFFSETFROM:-0400
TZOFFSETTO:-0500
TZNAME:EST
DTSTART:20261101T060000
END:STANDARD
END:VTIMEZONE
BEGIN:VEVENT
DTSTART;TZID=America/Detroit:20250807T180000
DTEND;TZID=America/Detroit:20250807T200000
DTSTAMP:20260424T003411
CREATED:20250729T181118Z
LAST-MODIFIED:20250729T181201Z
UID:2868-1754589600-1754596800@villageartsfactory.com
SUMMARY:Art Exhibit Opening Reception: Roots & Wings
DESCRIPTION:Join us on Thursday\, August 7 for the opening reception of Deb Xavier-Grondin’s vibrant new art exhibit at the Village Arts Factory\, titled “Roots & Wings.” Browse the artwork\, meet the artist\, and enjoy a variety of light refreshments. Doors open at 6:00pm. There is no cost to attend and all are welcome! \nAbout the Exhibit \nIn Roots & Wings\, abstract painter Deb Xavier-Grondin invites viewers on an introspective journey through identity\, heritage\, self-discovery\, and transformation. Working primarily with acrylics and mixed media on paper and canvas\, her vivid\, expressive compositions serve as visual poems — layered with tension\, contrast\, and emotional depth. \nBorn from a deeply personal evolution\, Xavier-Grondin’s work explores the complexity of being a woman\, a mother\, and an immigrant. Her paintings are at once grounded and expansive — rooted in origin\, yet reaching toward possibility. Each brushstroke is a question\, each piece a map of becoming. \nDrawing inspiration from pioneering female artists like Frida Kahlo\, Paula Modersohn-Becker\, Lee Krasner\, and Artemisia Gentileschi\, Xavier-Grondin embraces art as both rebellion and homecoming. Roots & Wings is an invitation to reflect\, to reconnect\, and to rediscover the infinite layers that make us who we are.
URL:https://villageartsfactory.com/event/art-exhibit-opening-reception-roots-wings/
LOCATION:Village Theater\, 50400 Cherry Hill Rd\, Canton\, MI\, 48188\, United States
CATEGORIES:Public Events
ATTACH;FMTTYPE=image/png:https://villageartsfactory.com/wp-content/uploads/2025/07/Deb-Xavier-Grondin-Banner.png
ORGANIZER;CN="Village Arts Factory":MAILTO:kevin.ryan@cantonmi.gov
END:VEVENT
BEGIN:VEVENT
DTSTART;TZID=America/Detroit:20250807T190000
DTEND;TZID=America/Detroit:20250807T200000
DTSTAMP:20260424T003411
CREATED:20250729T181604Z
LAST-MODIFIED:20250729T181604Z
UID:2872-1754593200-1754596800@villageartsfactory.com
SUMMARY:Yoga in the Village
DESCRIPTION:The Village Arts Factory is excited to announce the return of Yoga in the Village this summer! Generously sponsored by The Village Doctor at Cherry Hill\, join us on the lawn of the Cherry Hill Schoolhouse on Thursday evenings at 7:00 p.m. all summer long for a FREE outdoor yoga flow accessible for all fitness levels. Just bring a yoga mat or beach towel and some comfortable clothing; no pre-registration required. Our team of certified yoga instructors will help you stretch your body\, connect with nature\, and calm your mind. No previous experience necessary. \nFor scheduling or location changes due to inclement weather\, please follow the Village Arts Factory on Facebook or visit: villageartsfactory.com/events.
URL:https://villageartsfactory.com/event/yoga-in-the-village-21/
LOCATION:Cherry Hill Schoolhouse\, 50440 Cherry Hill Rd\, Canton\, MI\, 48187
CATEGORIES:Public Events
ATTACH;FMTTYPE=image/png:https://villageartsfactory.com/wp-content/uploads/2025/05/Yoga-June-29-1.png
ORGANIZER;CN="Village Arts Factory":MAILTO:kevin.ryan@cantonmi.gov
END:VEVENT
END:VCALENDAR