BEGIN:VCALENDAR
VERSION:2.0
PRODID:-//Village Arts Factory - ECPv6.15.20//NONSGML v1.0//EN
CALSCALE:GREGORIAN
METHOD:PUBLISH
X-WR-CALNAME:Village Arts Factory
X-ORIGINAL-URL:https://villageartsfactory.com
X-WR-CALDESC:Events for Village Arts Factory
REFRESH-INTERVAL;VALUE=DURATION:PT1H
X-Robots-Tag:noindex
X-PUBLISHED-TTL:PT1H
BEGIN:VTIMEZONE
TZID:America/Detroit
BEGIN:DAYLIGHT
TZOFFSETFROM:-0500
TZOFFSETTO:-0400
TZNAME:EDT
DTSTART:20240310T070000
END:DAYLIGHT
BEGIN:STANDARD
TZOFFSETFROM:-0400
TZOFFSETTO:-0500
TZNAME:EST
DTSTART:20241103T060000
END:STANDARD
BEGIN:DAYLIGHT
TZOFFSETFROM:-0500
TZOFFSETTO:-0400
TZNAME:EDT
DTSTART:20250309T070000
END:DAYLIGHT
BEGIN:STANDARD
TZOFFSETFROM:-0400
TZOFFSETTO:-0500
TZNAME:EST
DTSTART:20251102T060000
END:STANDARD
BEGIN:DAYLIGHT
TZOFFSETFROM:-0500
TZOFFSETTO:-0400
TZNAME:EDT
DTSTART:20260308T070000
END:DAYLIGHT
BEGIN:STANDARD
TZOFFSETFROM:-0400
TZOFFSETTO:-0500
TZNAME:EST
DTSTART:20261101T060000
END:STANDARD
END:VTIMEZONE
BEGIN:VEVENT
DTSTART;TZID=America/Detroit:20250815T180000
DTEND;TZID=America/Detroit:20250815T200000
DTSTAMP:20260424T004208
CREATED:20250730T034242Z
LAST-MODIFIED:20250730T042507Z
UID:2878-1755280800-1755288000@villageartsfactory.com
SUMMARY:Family Science & Art Night in Cherry Hill Village
DESCRIPTION:Get ready for a fun and engaging evening of hands-on creativity at the Village Arts Factory’s Family Science & Art Night. Families are invited to explore a variety of activity stations focused on art\, science\, and robotics\, designed to spark imagination and encourage learning through play. \nThis free event is a great way to ease into the back-to-school mindset—together\, you’ll discover how creativity and curiosity go hand-in-hand. Some simple snacks will be provided! \nGenerously presented in partnership with Kumon West – Cherry Hill Village and National Heritage Academies. \nEvent Details: \nFamily Science & Art NightFriday\, August 15\, 2025 | 6:00–8:00 PMVillage Arts Factory – Cherry Hill Village\, Canton\, MIFree Admission \nParticipating Organizations: D&M Art Studio\, True 2 You Candle Studios\, Lightning Robotics\, MOD Market\, Village Arts Factory
URL:https://villageartsfactory.com/event/family-science-art-night-in-cherry-hill-village-2/
LOCATION:Village Arts Factory\, 50755 Cherry Hill Rd\, Canton\, MI\, 48188\, United States
CATEGORIES:Public Events
ATTACH;FMTTYPE=image/png:https://villageartsfactory.com/wp-content/uploads/2025/07/Science-Art-Night-2024-2.0-2.png
ORGANIZER;CN="Village Arts Factory":MAILTO:kevin.ryan@cantonmi.gov
END:VEVENT
END:VCALENDAR