BEGIN:VCALENDAR
VERSION:2.0
PRODID:-//Village Arts Factory - ECPv6.15.20//NONSGML v1.0//EN
CALSCALE:GREGORIAN
METHOD:PUBLISH
X-WR-CALNAME:Village Arts Factory
X-ORIGINAL-URL:https://villageartsfactory.com
X-WR-CALDESC:Events for Village Arts Factory
REFRESH-INTERVAL;VALUE=DURATION:PT1H
X-Robots-Tag:noindex
X-PUBLISHED-TTL:PT1H
BEGIN:VTIMEZONE
TZID:America/Detroit
BEGIN:DAYLIGHT
TZOFFSETFROM:-0500
TZOFFSETTO:-0400
TZNAME:EDT
DTSTART:20240310T070000
END:DAYLIGHT
BEGIN:STANDARD
TZOFFSETFROM:-0400
TZOFFSETTO:-0500
TZNAME:EST
DTSTART:20241103T060000
END:STANDARD
BEGIN:DAYLIGHT
TZOFFSETFROM:-0500
TZOFFSETTO:-0400
TZNAME:EDT
DTSTART:20250309T070000
END:DAYLIGHT
BEGIN:STANDARD
TZOFFSETFROM:-0400
TZOFFSETTO:-0500
TZNAME:EST
DTSTART:20251102T060000
END:STANDARD
BEGIN:DAYLIGHT
TZOFFSETFROM:-0500
TZOFFSETTO:-0400
TZNAME:EDT
DTSTART:20260308T070000
END:DAYLIGHT
BEGIN:STANDARD
TZOFFSETFROM:-0400
TZOFFSETTO:-0500
TZNAME:EST
DTSTART:20261101T060000
END:STANDARD
END:VTIMEZONE
BEGIN:VEVENT
DTSTART;TZID=America/Detroit:20250823T090000
DTEND;TZID=America/Detroit:20250823T120000
DTSTAMP:20260424T003437
CREATED:20250515T141419Z
LAST-MODIFIED:20250801T122624Z
UID:2623-1755939600-1755950400@villageartsfactory.com
SUMMARY:Agent Orange Awareness 5K Run/Walk
DESCRIPTION:It is with great excitement that we announce the opening of registration for this year’s Agent Orange Awareness 5K Run/Walk in Cherry Hill Village\, presented by Jacob Matthew Jewelers! The race date has been set for Saturday\, August 23\, at 9:00am\, with a 1/4 Mile Fun Run taking place 30-minutes prior at 8:30am. As with last year\, a virtual race option is also available for those who would like to participate on their own time or from another location. The race will start and finish at the Village Arts Factory at 50755 Cherry Hill Road in Canton\, Michigan. Official race timing will be provided by Running Fit of Ann Arbor. \nThis year we are proud to announce that we have partnered with the VA Ann Arbor Fisher House for this event. Proceeds from the race will directly benefit the Ann Arbor Fisher House\, which provides cost-free lodging to families and caregivers of Veterans and active duty Service Members who are undergoing an episode of care at the VA Healthcare System in Ann Arbor. This incredible local organization works tirelessly to provide respite and home-away-from-home care for these families\, and we are proud to support them again this year! \nTake advantage of our Early Bird Registration for just $35 through July 31st. The cost of registration will increase to $45 on August 1st\, so be sure to register early and take advantage of the Early Bird discount! \nEvery registrant\, virtual or in-person\, will receive a beautiful finisher medal as part of their registration. Participants will also have the option to purchase an official race t-shirt or tank top through the online registration portal. \nAny children (or the young at heart!) who are interested in participating in the 1/4 Mile Fun Run can participate by bringing a simple donation of name-brand travel size toiletries\, crayons and coloring books\, or a $5 Kroger gift card. Likewise\, we’ll have pre-assembled donation packs you can purchase on race day for just $5. No pre-registration is needed for the Fun Run. \nFor more information or sponsorship opportunities\, you can visit the official race website: villageartsfactory.com/agent-orange-5k \nFor questions or concerns\, please contact us at: AgentOrangeAwareness5k@gmail.com \nLooking to make a donation in lieu of participating this year? Please visit: http://secure.villageartsfactory.com/…/agent-orange-5k… \nWe hope you’ll join us on August 23 for a beautiful 5K race while helping us raise awareness of the lingering effects of Agent Orange and supporting the incredible work of the VA Ann Arbor Fisher House! This is a beautiful community event for a great cause and we’re thrilled to be able to offer this opportunity again this summer.
URL:https://villageartsfactory.com/event/agent-orange-awareness-5k-run-walk/
LOCATION:Village Arts Factory\, 50755 Cherry Hill Rd\, Canton\, MI\, 48188\, United States
CATEGORIES:Public Events
ATTACH;FMTTYPE=image/png:https://villageartsfactory.com/wp-content/uploads/2025/05/Agent-Orange-2025-169-Header.png
ORGANIZER;CN="Village Arts Factory":MAILTO:kevin.ryan@cantonmi.gov
END:VEVENT
END:VCALENDAR