BEGIN:VCALENDAR
VERSION:2.0
PRODID:-//Village Arts Factory - ECPv6.15.20//NONSGML v1.0//EN
CALSCALE:GREGORIAN
METHOD:PUBLISH
X-WR-CALNAME:Village Arts Factory
X-ORIGINAL-URL:https://villageartsfactory.com
X-WR-CALDESC:Events for Village Arts Factory
REFRESH-INTERVAL;VALUE=DURATION:PT1H
X-Robots-Tag:noindex
X-PUBLISHED-TTL:PT1H
BEGIN:VTIMEZONE
TZID:America/Detroit
BEGIN:DAYLIGHT
TZOFFSETFROM:-0500
TZOFFSETTO:-0400
TZNAME:EDT
DTSTART:20240310T070000
END:DAYLIGHT
BEGIN:STANDARD
TZOFFSETFROM:-0400
TZOFFSETTO:-0500
TZNAME:EST
DTSTART:20241103T060000
END:STANDARD
BEGIN:DAYLIGHT
TZOFFSETFROM:-0500
TZOFFSETTO:-0400
TZNAME:EDT
DTSTART:20250309T070000
END:DAYLIGHT
BEGIN:STANDARD
TZOFFSETFROM:-0400
TZOFFSETTO:-0500
TZNAME:EST
DTSTART:20251102T060000
END:STANDARD
BEGIN:DAYLIGHT
TZOFFSETFROM:-0500
TZOFFSETTO:-0400
TZNAME:EDT
DTSTART:20260308T070000
END:DAYLIGHT
BEGIN:STANDARD
TZOFFSETFROM:-0400
TZOFFSETTO:-0500
TZNAME:EST
DTSTART:20261101T060000
END:STANDARD
END:VTIMEZONE
BEGIN:VEVENT
DTSTART;TZID=America/Detroit:20250828T190000
DTEND;TZID=America/Detroit:20250828T200000
DTSTAMP:20260424T003409
CREATED:20250828T170029Z
LAST-MODIFIED:20250828T170029Z
UID:2938-1756407600-1756411200@villageartsfactory.com
SUMMARY:Yoga in the Village
DESCRIPTION:It’s our final Yoga in the Village of the season and we’re celebrating with some (mostly) healthy bites and refreshing sips afterward! Join us for a gentle\, one-hour yoga flow at 7:00 PM on the lawn of the Cherry Hill Schoolhouse\, followed by our end-of-summer social. There is no cost to attend and all are welcome! Just bring a yoga mat\, water\, and some comfortable clothing. We hope to see you there!
URL:https://villageartsfactory.com/event/yoga-in-the-village-23/
LOCATION:Cherry Hill Schoolhouse\, 50440 Cherry Hill Rd\, Canton\, MI\, 48187
CATEGORIES:Public Events
ATTACH;FMTTYPE=image/png:https://villageartsfactory.com/wp-content/uploads/2025/05/Yoga-June-29-1.png
ORGANIZER;CN="Village Arts Factory":MAILTO:kevin.ryan@cantonmi.gov
END:VEVENT
END:VCALENDAR