BEGIN:VCALENDAR
VERSION:2.0
PRODID:-//Village Arts Factory - ECPv6.15.20//NONSGML v1.0//EN
CALSCALE:GREGORIAN
METHOD:PUBLISH
X-WR-CALNAME:Village Arts Factory
X-ORIGINAL-URL:https://villageartsfactory.com
X-WR-CALDESC:Events for Village Arts Factory
REFRESH-INTERVAL;VALUE=DURATION:PT1H
X-Robots-Tag:noindex
X-PUBLISHED-TTL:PT1H
BEGIN:VTIMEZONE
TZID:America/Detroit
BEGIN:DAYLIGHT
TZOFFSETFROM:-0500
TZOFFSETTO:-0400
TZNAME:EDT
DTSTART:20240310T070000
END:DAYLIGHT
BEGIN:STANDARD
TZOFFSETFROM:-0400
TZOFFSETTO:-0500
TZNAME:EST
DTSTART:20241103T060000
END:STANDARD
BEGIN:DAYLIGHT
TZOFFSETFROM:-0500
TZOFFSETTO:-0400
TZNAME:EDT
DTSTART:20250309T070000
END:DAYLIGHT
BEGIN:STANDARD
TZOFFSETFROM:-0400
TZOFFSETTO:-0500
TZNAME:EST
DTSTART:20251102T060000
END:STANDARD
BEGIN:DAYLIGHT
TZOFFSETFROM:-0500
TZOFFSETTO:-0400
TZNAME:EDT
DTSTART:20260308T070000
END:DAYLIGHT
BEGIN:STANDARD
TZOFFSETFROM:-0400
TZOFFSETTO:-0500
TZNAME:EST
DTSTART:20261101T060000
END:STANDARD
END:VTIMEZONE
BEGIN:VEVENT
DTSTART;TZID=America/Detroit:20251010T180000
DTEND;TZID=America/Detroit:20251010T193000
DTSTAMP:20260423T222259
CREATED:20251005T165219Z
LAST-MODIFIED:20251005T165219Z
UID:3025-1760119200-1760124600@villageartsfactory.com
SUMMARY:Fall Into Art: Friday Night Pop-Up
DESCRIPTION:🍁 Fall Into Art: A Stars Hollow Evening \nFriday\, October 10 | 6:00–7:30 PM | Cherry Hill School Lawn \nGrab your favorite cozy sweater and channel your inner Lorelai and Rory—it’s time for a Gilmore Girls-inspired night under the twinkle lights at Fall Into Art! This week\, we’re transforming the Cherry Hill School lawn into our own mini Stars Hollow\, complete with the Wild Wolf Coffee truck reimagined as “Luke’s Diner” serving up that signature caffeine fix. \nFamilies can enjoy our special Parent & Child Mug Craft\, where each duo creates their own matching coffee mugs—because nothing says “bonding” quite like sharing a cup of coffee (or hot cocoa!) just like the Gilmore girls. \nFeast on fall favorites including cider and donuts from Plymouth Orchards\, brats\, pizza\, mini pies from Saj Bakery\, and plenty of seasonal snacks. Add in live music\, fall crafts for kids\, and lawn games\, and you’ve got the perfect small-town autumn evening right here in Canton. \nThanks to last week’s amazing turnout\, we’re stocking up with more of everything—so come hungry\, crafty\, and ready to enjoy! \n✨ This is a FREE community event—everyone is welcome! \nAll food\, drinks\, and crafts are complimentary while supplies last. \nSpecial thanks to Edward Jones of Cherry Hill Village for generously sponsoring our Fall Into Art series this year—helping us keep the creativity (and coffee) flowing all season long!
URL:https://villageartsfactory.com/event/fall-into-art-friday-night-pop-up-8/
LOCATION:Cherry Hill Schoolhouse\, 50440 Cherry Hill Rd\, Canton\, MI\, 48187
CATEGORIES:Public Events
ATTACH;FMTTYPE=image/png:https://villageartsfactory.com/wp-content/uploads/2025/10/Fall-Into-Art-October-10.png
ORGANIZER;CN="Village Arts Factory":MAILTO:kevin.ryan@cantonmi.gov
END:VEVENT
END:VCALENDAR