BEGIN:VCALENDAR
VERSION:2.0
PRODID:-//Village Arts Factory - ECPv6.15.20//NONSGML v1.0//EN
CALSCALE:GREGORIAN
METHOD:PUBLISH
X-WR-CALNAME:Village Arts Factory
X-ORIGINAL-URL:https://villageartsfactory.com
X-WR-CALDESC:Events for Village Arts Factory
REFRESH-INTERVAL;VALUE=DURATION:PT1H
X-Robots-Tag:noindex
X-PUBLISHED-TTL:PT1H
BEGIN:VTIMEZONE
TZID:America/Detroit
BEGIN:DAYLIGHT
TZOFFSETFROM:-0500
TZOFFSETTO:-0400
TZNAME:EDT
DTSTART:20240310T070000
END:DAYLIGHT
BEGIN:STANDARD
TZOFFSETFROM:-0400
TZOFFSETTO:-0500
TZNAME:EST
DTSTART:20241103T060000
END:STANDARD
BEGIN:DAYLIGHT
TZOFFSETFROM:-0500
TZOFFSETTO:-0400
TZNAME:EDT
DTSTART:20250309T070000
END:DAYLIGHT
BEGIN:STANDARD
TZOFFSETFROM:-0400
TZOFFSETTO:-0500
TZNAME:EST
DTSTART:20251102T060000
END:STANDARD
BEGIN:DAYLIGHT
TZOFFSETFROM:-0500
TZOFFSETTO:-0400
TZNAME:EDT
DTSTART:20260308T070000
END:DAYLIGHT
BEGIN:STANDARD
TZOFFSETFROM:-0400
TZOFFSETTO:-0500
TZNAME:EST
DTSTART:20261101T060000
END:STANDARD
END:VTIMEZONE
BEGIN:VEVENT
DTSTART;TZID=America/Detroit:20251016T180000
DTEND;TZID=America/Detroit:20251016T210000
DTSTAMP:20260423T221727
CREATED:20250216T195137Z
LAST-MODIFIED:20250919T232006Z
UID:2442-1760637600-1760648400@villageartsfactory.com
SUMMARY:Art Improvisation Workshop with Kathy Kosins
DESCRIPTION:Improvisation On Canvas is a hands-on\, 3-hour workshop where you’ll paint to jazz music from a curated playlist\, focusing on abstract expression using texture and colors. Inspired by Bebop-era artists like Thelonious Monk\, Charlie Parker\, Dizzy Gillespie\, and Miles Davis\, alongside other modern jazz composers\, you’ll learn to “hear” in color and “listen” for shapes. \nJoin celebrated artist\, musician\, and experienced teacher Kathy Kosins as she leads you through an exciting adventure in sound and color. Kathy will provide individual guidance and encourage the use of alternate materials (that she will supply) for applying paints. \nStudents need to bring a few various sized canvases\, paints\, and brushes they would like to use. Kathy suggests acrylic paint. (Nothing really large\, please!) \nAt the end of the class\, you’ll have the opportunity to share your work\, learn from others\, and discuss your creative process. \nAbout Kathy Kosins: \nKathy Kosins is an interdisciplinary artist and a master of improvisation. Her art quite literally translates from stage to canvas. She may be best known for her successful career as a critically acclaimed jazz and soul artist\, yet all the while Kosins has been quietly gaining ground in the modern art world as well. \n“For me\, art and music are one in the same\,” Kosins says. “There’s no separation and there never has been.” Self-taught as musician\, composer and visual artist\, Kosins creates abstract acrylic paintings on canvas. A mid-century modern aesthetic has long inspired her work. Cubist and surrealist artists of the 1950s and 1960s inform her technique. \nKosins never studied art or music. Still\, she’s made a decades-long career in those fields. “My artwork is total improvisation\,” she says. “There is no preconceived composition.” At most\, Kosins may choose a color palette ahead of time. She believes in creating art when the moment strikes. That is exactly how she began painting from a live music stage. \nThose who have had the opportunity to see Kosins perform – and paint on stage – know it’s a rarity. Kosins often says she “hears color and sees sound\,” a condition known as synesthesia. As the band continues to play an impromptu instrumental on stage\, she applies color and strokes – each inspired visually by the interpretation of the music. The end result is an abstraction of the music being played. \nKosins is passionate about making art. Enough so that she created a clinic to guide aspiring or professional artists through the process itself. Titled\, “Improvisation on Canvas\,” Kosins has taught courses to students of all ages – at high schools\, performing arts schools\, colleges and continuing education courses across the country. \nKosins’ commissioned paintings are held in private collections throughout the US and Europe. \nCancelation policy: the Village Arts Factory will offer refunds minus the processing fees up to seven days before the class begins. It will not be possible to offer refunds within seven days of the class date. \nThe Village Arts Factory is an ADA-accessible facility and certified Kulture City sensory venue. \nThe Village Arts Factory takes precautions to provide a safe environment and our instructors are educated in providing options for individual limitations. Please make your own individual decisions regarding health precautions. \nClick Here to Register!
URL:https://villageartsfactory.com/event/art-improvisation-workshop-with-kathy-kosins/
LOCATION:Village Arts Factory\, 50755 Cherry Hill Rd\, Canton\, MI\, 48188\, United States
CATEGORIES:Public Events
ATTACH;FMTTYPE=image/png:https://villageartsfactory.com/wp-content/uploads/2025/02/Improvisation-on-Canvas-Banner-Oct-16.png
ORGANIZER;CN="Village Arts Factory":MAILTO:kevin.ryan@cantonmi.gov
END:VEVENT
END:VCALENDAR