BEGIN:VCALENDAR
VERSION:2.0
PRODID:-//Village Arts Factory - ECPv6.15.20//NONSGML v1.0//EN
CALSCALE:GREGORIAN
METHOD:PUBLISH
X-WR-CALNAME:Village Arts Factory
X-ORIGINAL-URL:https://villageartsfactory.com
X-WR-CALDESC:Events for Village Arts Factory
REFRESH-INTERVAL;VALUE=DURATION:PT1H
X-Robots-Tag:noindex
X-PUBLISHED-TTL:PT1H
BEGIN:VTIMEZONE
TZID:America/Detroit
BEGIN:DAYLIGHT
TZOFFSETFROM:-0500
TZOFFSETTO:-0400
TZNAME:EDT
DTSTART:20240310T070000
END:DAYLIGHT
BEGIN:STANDARD
TZOFFSETFROM:-0400
TZOFFSETTO:-0500
TZNAME:EST
DTSTART:20241103T060000
END:STANDARD
BEGIN:DAYLIGHT
TZOFFSETFROM:-0500
TZOFFSETTO:-0400
TZNAME:EDT
DTSTART:20250309T070000
END:DAYLIGHT
BEGIN:STANDARD
TZOFFSETFROM:-0400
TZOFFSETTO:-0500
TZNAME:EST
DTSTART:20251102T060000
END:STANDARD
BEGIN:DAYLIGHT
TZOFFSETFROM:-0500
TZOFFSETTO:-0400
TZNAME:EDT
DTSTART:20260308T070000
END:DAYLIGHT
BEGIN:STANDARD
TZOFFSETFROM:-0400
TZOFFSETTO:-0500
TZNAME:EST
DTSTART:20261101T060000
END:STANDARD
END:VTIMEZONE
BEGIN:VEVENT
DTSTART;TZID=America/Detroit:20251114T180000
DTEND;TZID=America/Detroit:20251114T200000
DTSTAMP:20260423T210900
CREATED:20251020T203208Z
LAST-MODIFIED:20251020T203208Z
UID:3072-1763143200-1763150400@villageartsfactory.com
SUMMARY:Art Exhibit Reception: Whispers of the Inner World
DESCRIPTION:Step into a world where the soul’s private language takes form. Whispers of the Inner World invites viewers on an intimate and dramatic journey through the subconscious\, memory\, and raw human emotion. Through this deeply expressive body of work\, international mixed-media artist Kseniya Hauptmann explores the invisible landscapes of the heart — the intensity of buried feelings\, the grace of connection\, and the forces that shape our inner lives. \nHauptmann’s mixed-media approach delicately balances abstraction and figuration\, merging materials and textures to mirror the complexity of human experience. Influenced by Impressionism yet driven by experimentation\, her paintings reveal layers of depth and emotion that shift with light and perspective. Each piece seems to breathe with its own rhythm — a whisper of vulnerability\, strength\, and transformation. \nOriginally from Belarus\, Hauptmann studied fine art\, art history\, and interior design before turning her focus to painting in 2017. Her work has since been featured in exhibitions and galleries across the world\, celebrated for its unique blend of creativity\, innovation\, and emotional resonance. Through her art\, she continues to push boundaries\, offering a contemplative space where imagination meets introspection. \nJoin us for the Opening Reception on Friday\, November 14\, from 6:00 to 8:00 PM at the Village Arts Factory. Enjoy refreshments\, meet the artist\, and experience Whispers of the Inner World in person — a collection that reminds us that even the quietest emotions can speak volumes.
URL:https://villageartsfactory.com/event/art-exhibit-reception-whispers-of-the-inner-world/
LOCATION:Village Arts Factory\, 50755 Cherry Hill Rd\, Canton\, MI\, 48188\, United States
CATEGORIES:Public Events
ATTACH;FMTTYPE=image/png:https://villageartsfactory.com/wp-content/uploads/2025/10/Kseniya-Hauptmann.png
ORGANIZER;CN="Village Arts Factory":MAILTO:kevin.ryan@cantonmi.gov
END:VEVENT
END:VCALENDAR