BEGIN:VCALENDAR
VERSION:2.0
PRODID:-//Village Arts Factory - ECPv6.15.20//NONSGML v1.0//EN
CALSCALE:GREGORIAN
METHOD:PUBLISH
X-ORIGINAL-URL:https://villageartsfactory.com
X-WR-CALDESC:Events for Village Arts Factory
REFRESH-INTERVAL;VALUE=DURATION:PT1H
X-Robots-Tag:noindex
X-PUBLISHED-TTL:PT1H
BEGIN:VTIMEZONE
TZID:America/Detroit
BEGIN:DAYLIGHT
TZOFFSETFROM:-0500
TZOFFSETTO:-0400
TZNAME:EDT
DTSTART:20240310T070000
END:DAYLIGHT
BEGIN:STANDARD
TZOFFSETFROM:-0400
TZOFFSETTO:-0500
TZNAME:EST
DTSTART:20241103T060000
END:STANDARD
BEGIN:DAYLIGHT
TZOFFSETFROM:-0500
TZOFFSETTO:-0400
TZNAME:EDT
DTSTART:20250309T070000
END:DAYLIGHT
BEGIN:STANDARD
TZOFFSETFROM:-0400
TZOFFSETTO:-0500
TZNAME:EST
DTSTART:20251102T060000
END:STANDARD
BEGIN:DAYLIGHT
TZOFFSETFROM:-0500
TZOFFSETTO:-0400
TZNAME:EDT
DTSTART:20260308T070000
END:DAYLIGHT
BEGIN:STANDARD
TZOFFSETFROM:-0400
TZOFFSETTO:-0500
TZNAME:EST
DTSTART:20261101T060000
END:STANDARD
END:VTIMEZONE
BEGIN:VEVENT
DTSTART;TZID=America/Detroit:20251130T130000
DTEND;TZID=America/Detroit:20251130T160000
DTSTAMP:20260423T195535
CREATED:20251101T012009Z
LAST-MODIFIED:20251101T012009Z
UID:3084-1764507600-1764518400@villageartsfactory.com
SUMMARY:What Is Winter? -- Collage\, Mixed Media & Assemblage Workshop
DESCRIPTION:What Is Winter? — Collage\, Mixed Media & Assemblage WorkshopSunday\, November 30 | 1–4 PMVillage Arts Factory\, 50755 Cherry Hill Rd\, Canton\, MI \nMake art part of your Thanksgiving weekend! Join artist and designer Daniel Zuber for What Is Winter?\, a hands-on creative workshop exploring the textures\, moods\, and meanings of the winter season through collage\, mixed media\, and assemblage. \nDiscover how to translate your thoughts and feelings about winter into visual poetry using a wide variety of materials—papers\, textures\, metal\, wood\, found objects\, stamps\, and more. Whether you’re inspired by the chill in the air or the warmth of the holidays\, Daniel will guide you through creating something simple\, abstract\, or deeply personal. \nAll tools and supplies are provided\, from paint and glue guns to Mod Podge\, wire\, nails\, and cutting tools—just bring your imagination! \nDaniel Zuber\, a graduate with honors from the College for Creative Studies with a BFA in Visual Communication\, brings his background as a graphic designer\, food photographer\, and avid crafter to this fun\, experimental session. \nCost: $30 per personEmail: Zuber.Daniel72@gmail.com to reserve your seat \nCome unwind after the holiday rush\, get creative\, and see where your imagination takes you! Please note that children under the age of 12 must be accompanied by a supervising adult.
URL:https://villageartsfactory.com/event/what-is-winter-collage-mixed-media-assemblage-workshop/
LOCATION:Village Arts Factory\, 50755 Cherry Hill Rd\, Canton\, MI\, 48188\, United States
CATEGORIES:Public Events
ATTACH;FMTTYPE=image/png:https://villageartsfactory.com/wp-content/uploads/2025/10/What-Is-Winter-ZUBER-Banner-2.png
ORGANIZER;CN="Daniel Zuber":MAILTO:zuber.daniel72@gmail.com
END:VEVENT
END:VCALENDAR