BEGIN:VCALENDAR
VERSION:2.0
PRODID:-//Village Arts Factory - ECPv6.15.20//NONSGML v1.0//EN
CALSCALE:GREGORIAN
METHOD:PUBLISH
X-WR-CALNAME:Village Arts Factory
X-ORIGINAL-URL:https://villageartsfactory.com
X-WR-CALDESC:Events for Village Arts Factory
REFRESH-INTERVAL;VALUE=DURATION:PT1H
X-Robots-Tag:noindex
X-PUBLISHED-TTL:PT1H
BEGIN:VTIMEZONE
TZID:America/Detroit
BEGIN:DAYLIGHT
TZOFFSETFROM:-0500
TZOFFSETTO:-0400
TZNAME:EDT
DTSTART:20250309T070000
END:DAYLIGHT
BEGIN:STANDARD
TZOFFSETFROM:-0400
TZOFFSETTO:-0500
TZNAME:EST
DTSTART:20251102T060000
END:STANDARD
BEGIN:DAYLIGHT
TZOFFSETFROM:-0500
TZOFFSETTO:-0400
TZNAME:EDT
DTSTART:20260308T070000
END:DAYLIGHT
BEGIN:STANDARD
TZOFFSETFROM:-0400
TZOFFSETTO:-0500
TZNAME:EST
DTSTART:20261101T060000
END:STANDARD
BEGIN:DAYLIGHT
TZOFFSETFROM:-0500
TZOFFSETTO:-0400
TZNAME:EDT
DTSTART:20270314T070000
END:DAYLIGHT
BEGIN:STANDARD
TZOFFSETFROM:-0400
TZOFFSETTO:-0500
TZNAME:EST
DTSTART:20271107T060000
END:STANDARD
END:VTIMEZONE
BEGIN:VEVENT
DTSTART;TZID=America/Detroit:20260105T170000
DTEND;TZID=America/Detroit:20260105T190000
DTSTAMP:20260423T182209
CREATED:20251125T191754Z
LAST-MODIFIED:20251125T191754Z
UID:3139-1767632400-1767639600@villageartsfactory.com
SUMMARY:Monday Night Craft Club
DESCRIPTION:Introducing: Monday Night Craft Club at the Village Arts Factory! \nLaunching January 5 | Every Monday | 5–7 PM \nFree • Drop-In • All Ages Welcome \nLooking for a cozy\, creative way to kick off your week? Join us for our brand-new Monday Night Craft Club—a relaxed\, come-as-you-are gathering where creativity\, community\, and conversation come together. \nBring your own project—knitting\, sketching\, embroidery\, scrapbooking\, jewelry-making\, cross-stitch\, painting…whatever you’re working on! \nNo craft? No problem. We’ll have extra supplies on hand so everyone can join in. \n🧶 What to expect: \n• A welcoming\, judgment-free creative space \n• Time to work on personal projects \n• Light snacks and refreshments provided \n• A chance to meet new friends\, share ideas\, and unwind \n• Free for all ages (kids under 12 must be accompanied by an adult) \nWhether you’re a seasoned maker or just looking for something fun to try\, Monday Night Craft Club is the perfect weekly reset. Drop in anytime between 5–7 PM and craft the night away with us! \n🎨 Location: Village Arts Factory – Community Room \n📅 First Session: January 5 \n💲 Cost: Free \nCome craft\, connect\, and create with us every Monday night!
URL:https://villageartsfactory.com/event/monday-night-craft-club/
LOCATION:Village Arts Factory\, 50755 Cherry Hill Rd\, Canton\, MI\, 48188\, United States
CATEGORIES:Public Events
ATTACH;FMTTYPE=image/png:https://villageartsfactory.com/wp-content/uploads/2025/11/MNCC-VAF-2026.png
ORGANIZER;CN="Village Arts Factory":MAILTO:kevin.ryan@cantonmi.gov
END:VEVENT
END:VCALENDAR