BEGIN:VCALENDAR
VERSION:2.0
PRODID:-//Village Arts Factory - ECPv6.15.20//NONSGML v1.0//EN
CALSCALE:GREGORIAN
METHOD:PUBLISH
X-ORIGINAL-URL:https://villageartsfactory.com
X-WR-CALDESC:Events for Village Arts Factory
REFRESH-INTERVAL;VALUE=DURATION:PT1H
X-Robots-Tag:noindex
X-PUBLISHED-TTL:PT1H
BEGIN:VTIMEZONE
TZID:America/Detroit
BEGIN:DAYLIGHT
TZOFFSETFROM:-0500
TZOFFSETTO:-0400
TZNAME:EDT
DTSTART:20250309T070000
END:DAYLIGHT
BEGIN:STANDARD
TZOFFSETFROM:-0400
TZOFFSETTO:-0500
TZNAME:EST
DTSTART:20251102T060000
END:STANDARD
BEGIN:DAYLIGHT
TZOFFSETFROM:-0500
TZOFFSETTO:-0400
TZNAME:EDT
DTSTART:20260308T070000
END:DAYLIGHT
BEGIN:STANDARD
TZOFFSETFROM:-0400
TZOFFSETTO:-0500
TZNAME:EST
DTSTART:20261101T060000
END:STANDARD
BEGIN:DAYLIGHT
TZOFFSETFROM:-0500
TZOFFSETTO:-0400
TZNAME:EDT
DTSTART:20270314T070000
END:DAYLIGHT
BEGIN:STANDARD
TZOFFSETFROM:-0400
TZOFFSETTO:-0500
TZNAME:EST
DTSTART:20271107T060000
END:STANDARD
END:VTIMEZONE
BEGIN:VEVENT
DTSTART;TZID=America/Detroit:20260106T181500
DTEND;TZID=America/Detroit:20260106T201500
DTSTAMP:20260423T182311
CREATED:20251110T205947Z
LAST-MODIFIED:20251125T193419Z
UID:3107-1767723300-1767730500@villageartsfactory.com
SUMMARY:Glass Fusion Workshop: Valentine Hearts
DESCRIPTION:Join us for a beautiful and colorful evening of creativity at our Valentine Heart Glass Workshop—just in time for the season of love! Experience the joy and magic of working with glass as you craft your own one-of-a-kind heart-themed nightlight or suncatcher. Choose from a wide variety of vibrant colors to design a unique pattern that reflects your personal style.\n\nWith expert guidance from instructor Laurie of Kiss My Glass Art\, you’ll learn how simple and fun it can be to create with glass. Some materials will be pre-cut to make the process easy and enjoyable\, allowing you to focus on adding your own artistic touch. This class is perfect for adults of all ages and skill levels\, including beginners. The cost to attend is just $42 per person.\n\nEach project will be kiln-fired and ready for pickup in approximately 10–12 days. All participants will receive an email with pickup instructions once their pieces are complete.\n\nPlease remember to wear closed-toed shoes for safety. Beverages in covered containers are welcome\, but food is not permitted during the workshop.\n\nRefund Policy: We’re unable to offer refunds within 5 days of the scheduled class date. If an emergency prevents you from attending\, you may either send someone in your place or apply your registration fee toward a second project at a future paid class of your choice. Please contact Laurie at KissMyGlassArt@yahoo.com within 72 hours of the missed session to make arrangements.\n\nCome enjoy an evening of creativity\, color\, and community—and leave with a handmade glass heart that’s sure to brighten your home or make a meaningful Valentine’s gift!\nClick Here to Register!
URL:https://villageartsfactory.com/event/glass-fusion-workshop-valentine-hearts/
LOCATION:Village Arts Factory\, 50755 Cherry Hill Rd\, Canton\, MI\, 48188\, United States
CATEGORIES:Public Events
ATTACH;FMTTYPE=image/png:https://villageartsfactory.com/wp-content/uploads/2025/11/Glass-Fusion-Jan-6-Banner.png
ORGANIZER;CN="Kiss My Glass":MAILTO:kissmyglassart@yahoo.com
END:VEVENT
END:VCALENDAR