BEGIN:VCALENDAR
VERSION:2.0
PRODID:-//Village Arts Factory - ECPv6.15.20//NONSGML v1.0//EN
CALSCALE:GREGORIAN
METHOD:PUBLISH
X-WR-CALNAME:Village Arts Factory
X-ORIGINAL-URL:https://villageartsfactory.com
X-WR-CALDESC:Events for Village Arts Factory
REFRESH-INTERVAL;VALUE=DURATION:PT1H
X-Robots-Tag:noindex
X-PUBLISHED-TTL:PT1H
BEGIN:VTIMEZONE
TZID:America/Detroit
BEGIN:DAYLIGHT
TZOFFSETFROM:-0500
TZOFFSETTO:-0400
TZNAME:EDT
DTSTART:20250309T070000
END:DAYLIGHT
BEGIN:STANDARD
TZOFFSETFROM:-0400
TZOFFSETTO:-0500
TZNAME:EST
DTSTART:20251102T060000
END:STANDARD
BEGIN:DAYLIGHT
TZOFFSETFROM:-0500
TZOFFSETTO:-0400
TZNAME:EDT
DTSTART:20260308T070000
END:DAYLIGHT
BEGIN:STANDARD
TZOFFSETFROM:-0400
TZOFFSETTO:-0500
TZNAME:EST
DTSTART:20261101T060000
END:STANDARD
BEGIN:DAYLIGHT
TZOFFSETFROM:-0500
TZOFFSETTO:-0400
TZNAME:EDT
DTSTART:20270314T070000
END:DAYLIGHT
BEGIN:STANDARD
TZOFFSETFROM:-0400
TZOFFSETTO:-0500
TZNAME:EST
DTSTART:20271107T060000
END:STANDARD
END:VTIMEZONE
BEGIN:VEVENT
DTSTART;TZID=America/Detroit:20260114T190000
DTEND;TZID=America/Detroit:20260114T210000
DTSTAMP:20260423T182209
CREATED:20251211T214620Z
LAST-MODIFIED:20251218T202925Z
UID:3158-1768417200-1768424400@villageartsfactory.com
SUMMARY:Classics & Cocktails: Breakfast at Tiffany's
DESCRIPTION:Start the new year with timeless style as we kick off our Classics & Cocktails Movie Series with the iconic Breakfast at Tiffany’s! \nJoin us for an elegant\, Audrey-inspired evening featuring a screening of this beloved classic\, along with themed treats and specialty sips ($) to set the scene. Guests will enjoy fresh croissants and our signature Tiffany’s Cocktail\, crafted just for the night. \nWhether you’re a longtime fan or discovering the film for the first time\, this is the perfect chance to step into Holly Golightly’s world—cocktail in hand. \n📅 Date: Wednesday\, January 14 \n⏰ Time: 7:00 PM \n🎟 Admission: $8 \n🍸 Themed Food & Drink | 21+ \nCome dressed to impress\, settle in\, and enjoy a sparkling night at the movies! \n*Please note: cocktails are not included with the ticket and must be purchased at the bar at the theater on the evening of the film. \nPurchase Tickets Here
URL:https://villageartsfactory.com/event/classics-cocktails-breakfast-at-tiffanys/
LOCATION:Village Theater\, 50400 Cherry Hill Rd\, Canton\, MI\, 48188\, United States
CATEGORIES:Public Events
ATTACH;FMTTYPE=image/jpeg:https://villageartsfactory.com/wp-content/uploads/2025/12/CLASSICS-AND-COCKTAILS-PACKAGE.jpg
ORGANIZER;CN="Village Arts Factory":MAILTO:kevin.ryan@cantonmi.gov
END:VEVENT
END:VCALENDAR