BEGIN:VCALENDAR
VERSION:2.0
PRODID:-//Village Arts Factory - ECPv6.15.20//NONSGML v1.0//EN
CALSCALE:GREGORIAN
METHOD:PUBLISH
X-ORIGINAL-URL:https://villageartsfactory.com
X-WR-CALDESC:Events for Village Arts Factory
REFRESH-INTERVAL;VALUE=DURATION:PT1H
X-Robots-Tag:noindex
X-PUBLISHED-TTL:PT1H
BEGIN:VTIMEZONE
TZID:America/Detroit
BEGIN:DAYLIGHT
TZOFFSETFROM:-0500
TZOFFSETTO:-0400
TZNAME:EDT
DTSTART:20250309T070000
END:DAYLIGHT
BEGIN:STANDARD
TZOFFSETFROM:-0400
TZOFFSETTO:-0500
TZNAME:EST
DTSTART:20251102T060000
END:STANDARD
BEGIN:DAYLIGHT
TZOFFSETFROM:-0500
TZOFFSETTO:-0400
TZNAME:EDT
DTSTART:20260308T070000
END:DAYLIGHT
BEGIN:STANDARD
TZOFFSETFROM:-0400
TZOFFSETTO:-0500
TZNAME:EST
DTSTART:20261101T060000
END:STANDARD
BEGIN:DAYLIGHT
TZOFFSETFROM:-0500
TZOFFSETTO:-0400
TZNAME:EDT
DTSTART:20270314T070000
END:DAYLIGHT
BEGIN:STANDARD
TZOFFSETFROM:-0400
TZOFFSETTO:-0500
TZNAME:EST
DTSTART:20271107T060000
END:STANDARD
END:VTIMEZONE
BEGIN:VEVENT
DTSTART;TZID=America/Detroit:20260119T183000
DTEND;TZID=America/Detroit:20260119T203000
DTSTAMP:20260423T182439
CREATED:20251217T205753Z
LAST-MODIFIED:20260115T204058Z
UID:3178-1768847400-1768854600@villageartsfactory.com
SUMMARY:Dr. Martin Luther King\, Jr. Canton Community Celebration
DESCRIPTION:Join us at the Village Arts Factory for a meaningful evening honoring the life\, legacy\, and lasting impact of Dr. Martin Luther King\, Jr. \n\nOn Monday\, January 19\, 2026\, the Canton community is invited to come together for this free\, all-ages celebration\, featuring inspiring remarks from community leaders\, student performances\, a featured art gallery exhibition\, scholarship presentations\, and light refreshments.\nThis special event is a time to reflect\, celebrate\, and recommit ourselves to Dr. King’s vision of justice\, compassion\, and unity.\n Monday\, January 19\, 2026\n 6:30–8:30 PM\n Village Arts Factory | 50755 Cherry Hill Road\n Free & open to the public — no registration required\n\nWe hope you’ll join us for this powerful community celebration.
URL:https://villageartsfactory.com/event/dr-martin-luther-king-jr-canton-community-celebration/
LOCATION:Village Arts Factory\, 50755 Cherry Hill Rd\, Canton\, MI\, 48188\, United States
CATEGORIES:Public Events
ATTACH;FMTTYPE=image/png:https://villageartsfactory.com/wp-content/uploads/2025/12/MLK-Day-Banner.png
ORGANIZER;CN="Village Arts Factory":MAILTO:kevin.ryan@cantonmi.gov
END:VEVENT
END:VCALENDAR