BEGIN:VCALENDAR
VERSION:2.0
PRODID:-//Village Arts Factory - ECPv6.15.20//NONSGML v1.0//EN
CALSCALE:GREGORIAN
METHOD:PUBLISH
X-WR-CALNAME:Village Arts Factory
X-ORIGINAL-URL:https://villageartsfactory.com
X-WR-CALDESC:Events for Village Arts Factory
REFRESH-INTERVAL;VALUE=DURATION:PT1H
X-Robots-Tag:noindex
X-PUBLISHED-TTL:PT1H
BEGIN:VTIMEZONE
TZID:America/Detroit
BEGIN:DAYLIGHT
TZOFFSETFROM:-0500
TZOFFSETTO:-0400
TZNAME:EDT
DTSTART:20250309T070000
END:DAYLIGHT
BEGIN:STANDARD
TZOFFSETFROM:-0400
TZOFFSETTO:-0500
TZNAME:EST
DTSTART:20251102T060000
END:STANDARD
BEGIN:DAYLIGHT
TZOFFSETFROM:-0500
TZOFFSETTO:-0400
TZNAME:EDT
DTSTART:20260308T070000
END:DAYLIGHT
BEGIN:STANDARD
TZOFFSETFROM:-0400
TZOFFSETTO:-0500
TZNAME:EST
DTSTART:20261101T060000
END:STANDARD
BEGIN:DAYLIGHT
TZOFFSETFROM:-0500
TZOFFSETTO:-0400
TZNAME:EDT
DTSTART:20270314T070000
END:DAYLIGHT
BEGIN:STANDARD
TZOFFSETFROM:-0400
TZOFFSETTO:-0500
TZNAME:EST
DTSTART:20271107T060000
END:STANDARD
END:VTIMEZONE
BEGIN:VEVENT
DTSTART;TZID=America/Detroit:20260130T180000
DTEND;TZID=America/Detroit:20260130T200000
DTSTAMP:20260423T182209
CREATED:20251125T195708Z
LAST-MODIFIED:20251125T195708Z
UID:3143-1769796000-1769803200@villageartsfactory.com
SUMMARY:Dad & Me Night Out: Robots from Outer Space!
DESCRIPTION:🚀 Dad & Me Night Out: Robots from Outer Space! \nA Sci-Fi Adventure in Creativity\, Connection\, and Imagination \nCalling all dads\, father figures\, and kids ages 7–14! Step away from the screens and blast off into an evening of hands-on fun at the Village Arts Factory. Our sci-fi themed Salvage Robot Workshop is the perfect chance to unplug\, get creative\, and build something amazing—together. \nIn this interactive assemblage art experience\, each duo will design and construct their own robot sculpture using an exciting assortment of recycled materials\, found objects\, hardware\, scraps\, and other unexpected treasures. No experience needed—just teamwork\, curiosity\, and a spirit of adventure! \n🛠️ Together\, you’ll dive into: \n• Safe and simple tool use \n• Creative problem-solving in a “junkyard challenge” style format \n• Turning everyday items into original robot characters \n• Basic assemblage and mixed-media building techniques \nBy the end of the night\, every pair will head home with a one-of-a-kind robot creation—and the kind of shared memories you can’t make behind a screen. \n🍕 Plus: Pizza\, sci-fi themed snacks\, and intergalactic drinks provided! \nMake this a night your kid will remember. Suit up\, get scrappy\, and join us for an unforgettable evening of creativity and connection at the Village Arts Factory! \nClick Here to Register!
URL:https://villageartsfactory.com/event/dad-me-night-out-robots-from-outer-space/
LOCATION:Village Arts Factory\, 50755 Cherry Hill Rd\, Canton\, MI\, 48188\, United States
CATEGORIES:Public Events
ATTACH;FMTTYPE=image/png:https://villageartsfactory.com/wp-content/uploads/2025/11/Dad-Me-Night-Out-2026.png
ORGANIZER;CN="Village Arts Factory":MAILTO:kevin.ryan@cantonmi.gov
END:VEVENT
END:VCALENDAR