BEGIN:VCALENDAR
VERSION:2.0
PRODID:-//Village Arts Factory - ECPv6.15.20//NONSGML v1.0//EN
CALSCALE:GREGORIAN
METHOD:PUBLISH
X-WR-CALNAME:Village Arts Factory
X-ORIGINAL-URL:https://villageartsfactory.com
X-WR-CALDESC:Events for Village Arts Factory
REFRESH-INTERVAL;VALUE=DURATION:PT1H
X-Robots-Tag:noindex
X-PUBLISHED-TTL:PT1H
BEGIN:VTIMEZONE
TZID:America/Detroit
BEGIN:DAYLIGHT
TZOFFSETFROM:-0500
TZOFFSETTO:-0400
TZNAME:EDT
DTSTART:20250309T070000
END:DAYLIGHT
BEGIN:STANDARD
TZOFFSETFROM:-0400
TZOFFSETTO:-0500
TZNAME:EST
DTSTART:20251102T060000
END:STANDARD
BEGIN:DAYLIGHT
TZOFFSETFROM:-0500
TZOFFSETTO:-0400
TZNAME:EDT
DTSTART:20260308T070000
END:DAYLIGHT
BEGIN:STANDARD
TZOFFSETFROM:-0400
TZOFFSETTO:-0500
TZNAME:EST
DTSTART:20261101T060000
END:STANDARD
BEGIN:DAYLIGHT
TZOFFSETFROM:-0500
TZOFFSETTO:-0400
TZNAME:EDT
DTSTART:20270314T070000
END:DAYLIGHT
BEGIN:STANDARD
TZOFFSETFROM:-0400
TZOFFSETTO:-0500
TZNAME:EST
DTSTART:20271107T060000
END:STANDARD
END:VTIMEZONE
BEGIN:VEVENT
DTSTART;TZID=America/Detroit:20260207T100000
DTEND;TZID=America/Detroit:20260207T120000
DTSTAMP:20260423T164038
CREATED:20251217T192932Z
LAST-MODIFIED:20251217T192932Z
UID:3175-1770458400-1770465600@villageartsfactory.com
SUMMARY:Galentine's Brunch at the Village Arts Factory
DESCRIPTION:Grab your best gals and treat yourselves to a Galentine’s Day celebration that’s equal parts nostalgic\, indulgent\, and fabulous! \nWhether you’re coming with lifelong besties or looking to meet new ones\, this cozy-yet-glam gathering is all about connection\, creativity\, and a little sparkle. Sip bubbly mimosas\, enjoy a decadent waffle bar\, and explore the art of perfume-making as you create a custom scent that’s uniquely yours. Strike a pose with curated vintage photos and soak in the joy of slowing down\, laughing together\, and celebrating friendship. \n✨ Vintage Photos\n✨ Perfume-Making Experience\n✨ Waffle Bar & Mimosas \n📅 February 7th\n⏰ 10:00 AM – 12:00 PM\n🔞 21+\n💲 $45 per person \nBecause Galentine’s Day deserves to be sweet\, stylish\, and unforgettable! \nClick Here to Sign Up
URL:https://villageartsfactory.com/event/galentines-brunch-at-the-village-arts-factory/
LOCATION:Village Arts Factory\, 50755 Cherry Hill Rd\, Canton\, MI\, 48188\, United States
CATEGORIES:Public Events
ATTACH;FMTTYPE=image/png:https://villageartsfactory.com/wp-content/uploads/2025/12/Galentines-Day-NEON.png
ORGANIZER;CN="Village Arts Factory":MAILTO:kevin.ryan@cantonmi.gov
END:VEVENT
END:VCALENDAR