BEGIN:VCALENDAR
VERSION:2.0
PRODID:-//Village Arts Factory - ECPv6.15.20//NONSGML v1.0//EN
CALSCALE:GREGORIAN
METHOD:PUBLISH
X-WR-CALNAME:Village Arts Factory
X-ORIGINAL-URL:https://villageartsfactory.com
X-WR-CALDESC:Events for Village Arts Factory
REFRESH-INTERVAL;VALUE=DURATION:PT1H
X-Robots-Tag:noindex
X-PUBLISHED-TTL:PT1H
BEGIN:VTIMEZONE
TZID:America/Detroit
BEGIN:DAYLIGHT
TZOFFSETFROM:-0500
TZOFFSETTO:-0400
TZNAME:EDT
DTSTART:20250309T070000
END:DAYLIGHT
BEGIN:STANDARD
TZOFFSETFROM:-0400
TZOFFSETTO:-0500
TZNAME:EST
DTSTART:20251102T060000
END:STANDARD
BEGIN:DAYLIGHT
TZOFFSETFROM:-0500
TZOFFSETTO:-0400
TZNAME:EDT
DTSTART:20260308T070000
END:DAYLIGHT
BEGIN:STANDARD
TZOFFSETFROM:-0400
TZOFFSETTO:-0500
TZNAME:EST
DTSTART:20261101T060000
END:STANDARD
BEGIN:DAYLIGHT
TZOFFSETFROM:-0500
TZOFFSETTO:-0400
TZNAME:EDT
DTSTART:20270314T070000
END:DAYLIGHT
BEGIN:STANDARD
TZOFFSETFROM:-0400
TZOFFSETTO:-0500
TZNAME:EST
DTSTART:20271107T060000
END:STANDARD
END:VTIMEZONE
BEGIN:VEVENT
DTSTART;TZID=America/Detroit:20260215T100000
DTEND;TZID=America/Detroit:20260215T130000
DTSTAMP:20260423T164108
CREATED:20260127T150511Z
LAST-MODIFIED:20260127T150615Z
UID:3236-1771149600-1771160400@villageartsfactory.com
SUMMARY:Canton Off-Season Farmers Market
DESCRIPTION:Dust off your farmers market totes\, because the wait is finally over! The Canton Farmers Market will host its first indoor Off-Season Market for 2026 on Sunday\, February 15! Join us\, along with a variety of local growers\, food producers\, and artisans from 10 a.m. to 1 p.m. at the Village Arts Factory\, located at 50755 Cherry Hill Road in Canton. Stop by to experience all the things you love about Canton’s regular season markets\, just indoors! See you at the Market! \nOur February 15 vendors include: \nAmie RocksAngie’s Kettle CornBobilin Honey\, LLCBougie BlendzEveland Syrups LLCEvermore Homestead Creations LLCFreezie Fitz CandyHercules PastriesKapolnek Farms LLCLiberty Flame CandlesLolly’s TableNadevame SoapsNeferene Comic BricksPat’s CreationsPick MI FarmsSpiceGrrrlTBFYThe Cheese People of Grand RapidsThe Pasta ShopUncommon Extract \nVillage Arts Factory Studios:AP3D PrintshopBlue Lilac SkincareCookies & More LLCD&M Art StudioRooted Vision PhotographyWild Wolf Coffee \nFood/Beverage Trucks:Wild Wolf Coffee \nNon-Profit Booths: Girl Scouts Troop 40969MSU Master Gardners \nPresenting Sponsor: Renewal by Andersen \nVendor lineup subject to change without notice. \nLearn more about this event at https://www.cantonmi.gov/496
URL:https://villageartsfactory.com/event/canton-off-season-farmers-market/
LOCATION:Village Arts Factory\, 50755 Cherry Hill Rd\, Canton\, MI\, 48188\, United States
CATEGORIES:Public Events
ATTACH;FMTTYPE=image/jpeg:https://villageartsfactory.com/wp-content/uploads/2026/01/Off-season-markets-2026-FB-COVER.jpg
END:VEVENT
END:VCALENDAR