BEGIN:VCALENDAR
VERSION:2.0
PRODID:-//Village Arts Factory - ECPv6.15.20//NONSGML v1.0//EN
CALSCALE:GREGORIAN
METHOD:PUBLISH
X-WR-CALNAME:Village Arts Factory
X-ORIGINAL-URL:https://villageartsfactory.com
X-WR-CALDESC:Events for Village Arts Factory
REFRESH-INTERVAL;VALUE=DURATION:PT1H
X-Robots-Tag:noindex
X-PUBLISHED-TTL:PT1H
BEGIN:VTIMEZONE
TZID:America/Detroit
BEGIN:DAYLIGHT
TZOFFSETFROM:-0500
TZOFFSETTO:-0400
TZNAME:EDT
DTSTART:20250309T070000
END:DAYLIGHT
BEGIN:STANDARD
TZOFFSETFROM:-0400
TZOFFSETTO:-0500
TZNAME:EST
DTSTART:20251102T060000
END:STANDARD
BEGIN:DAYLIGHT
TZOFFSETFROM:-0500
TZOFFSETTO:-0400
TZNAME:EDT
DTSTART:20260308T070000
END:DAYLIGHT
BEGIN:STANDARD
TZOFFSETFROM:-0400
TZOFFSETTO:-0500
TZNAME:EST
DTSTART:20261101T060000
END:STANDARD
BEGIN:DAYLIGHT
TZOFFSETFROM:-0500
TZOFFSETTO:-0400
TZNAME:EDT
DTSTART:20270314T070000
END:DAYLIGHT
BEGIN:STANDARD
TZOFFSETFROM:-0400
TZOFFSETTO:-0500
TZNAME:EST
DTSTART:20271107T060000
END:STANDARD
END:VTIMEZONE
BEGIN:VEVENT
DTSTART;TZID=America/Detroit:20260224T180000
DTEND;TZID=America/Detroit:20260224T200000
DTSTAMP:20260423T164055
CREATED:20260114T190032Z
LAST-MODIFIED:20260114T190032Z
UID:3203-1771956000-1771963200@villageartsfactory.com
SUMMARY:Romancing the Book Night
DESCRIPTION:Calling all romance readers and book lovers! Join us for a cozy\, creative evening where stories\, sparkle\, and community come together. Turn your favorite hardcover book into a dazzling work of art with shimmering gems\, test your knowledge during romance-genre trivia\, enjoy themed refreshments\, and connect with fellow fans of love stories that make your heart flutter. \nThis memorable night celebrates romance novels\, artistic expression\, and the joy of sharing beloved book recommendations with others who get it. Whether you’re swooning over classic love stories or devouring the latest romantasy\, this event is all about celebrating the books that have captured your heart. \nBest of all\, this unique bookish experience supports a great cause. In partnership with the Plymouth-Canton Community Literacy Council\, and thanks to a generous grant from the Partnership for the Arts & Humanities\, all proceeds directly benefit local literacy programs in our community. \n📚💖 Book a night out for a great cause! \nBYOB — Bring Your Own Book! We’ll supply the bedazzling gems\, creative materials\, and plenty of evening fun.
URL:https://villageartsfactory.com/event/romancing-the-book-night/
LOCATION:Village Arts Factory\, 50755 Cherry Hill Rd\, Canton\, MI\, 48188\, United States
CATEGORIES:Public Events
ATTACH;FMTTYPE=image/png:https://villageartsfactory.com/wp-content/uploads/2026/01/Romancing-the-Book-Night.png
ORGANIZER;CN="Plymouth-Canton Community Literacy Council":MAILTO:lizkaczmarek20@gmail.com
END:VEVENT
END:VCALENDAR