BEGIN:VCALENDAR
VERSION:2.0
PRODID:-//Village Arts Factory - ECPv6.15.20//NONSGML v1.0//EN
CALSCALE:GREGORIAN
METHOD:PUBLISH
X-WR-CALNAME:Village Arts Factory
X-ORIGINAL-URL:https://villageartsfactory.com
X-WR-CALDESC:Events for Village Arts Factory
REFRESH-INTERVAL;VALUE=DURATION:PT1H
X-Robots-Tag:noindex
X-PUBLISHED-TTL:PT1H
BEGIN:VTIMEZONE
TZID:America/Detroit
BEGIN:DAYLIGHT
TZOFFSETFROM:-0500
TZOFFSETTO:-0400
TZNAME:EDT
DTSTART:20250309T070000
END:DAYLIGHT
BEGIN:STANDARD
TZOFFSETFROM:-0400
TZOFFSETTO:-0500
TZNAME:EST
DTSTART:20251102T060000
END:STANDARD
BEGIN:DAYLIGHT
TZOFFSETFROM:-0500
TZOFFSETTO:-0400
TZNAME:EDT
DTSTART:20260308T070000
END:DAYLIGHT
BEGIN:STANDARD
TZOFFSETFROM:-0400
TZOFFSETTO:-0500
TZNAME:EST
DTSTART:20261101T060000
END:STANDARD
BEGIN:DAYLIGHT
TZOFFSETFROM:-0500
TZOFFSETTO:-0400
TZNAME:EDT
DTSTART:20270314T070000
END:DAYLIGHT
BEGIN:STANDARD
TZOFFSETFROM:-0400
TZOFFSETTO:-0500
TZNAME:EST
DTSTART:20271107T060000
END:STANDARD
END:VTIMEZONE
BEGIN:VEVENT
DTSTART;TZID=America/Detroit:20260311T190000
DTEND;TZID=America/Detroit:20260311T204500
DTSTAMP:20260423T150834
CREATED:20251215T211422Z
LAST-MODIFIED:20260219T175350Z
UID:3169-1773255600-1773261900@villageartsfactory.com
SUMMARY:Classics & Cocktails: The Thin Man
DESCRIPTION:Start the spring season with sharp wit and classic glamour as Classics & Cocktails presents the beloved mystery-comedy The Thin Man! \nJoin us for a sophisticated evening inspired by Nick and Nora Charles\, featuring a screening of this fast-talking classic paired with themed bites and specialty cocktails ($) to match the film’s clever charm. Sip on expertly crafted cocktails and enjoy light snacks as you settle in for an unforgettable night of laughs\, intrigue\, and old-Hollywood elegance. \nWhether you’re a longtime classic film lover or discovering this gem for the first time\, this is your chance to experience a true cinematic favorite—martini in hand. \n📅 Date: Wednesday\, March 11 \n⏰ Time: 7:00 PM \n🎟 Admission: $8 \n🍸 Themed Food & Drink | 21+ \nDress in your best vintage flair\, take your seat\, and enjoy a stylish night at the movies. \n*Please note: cocktails are not included with the ticket and must be purchased at the bar at the theater on the evening of the film. \nPurchase Tickets Here
URL:https://villageartsfactory.com/event/classics-cocktails-the-thin-man/
LOCATION:Village Theater\, 50400 Cherry Hill Rd\, Canton\, MI\, 48188\, United States
CATEGORIES:Public Events
ATTACH;FMTTYPE=image/png:https://villageartsfactory.com/wp-content/uploads/2025/12/Thin-Man-v2.png
ORGANIZER;CN="Village Arts Factory":MAILTO:kevin.ryan@cantonmi.gov
END:VEVENT
END:VCALENDAR