BEGIN:VCALENDAR
VERSION:2.0
PRODID:-//Village Arts Factory - ECPv6.15.20//NONSGML v1.0//EN
CALSCALE:GREGORIAN
METHOD:PUBLISH
X-WR-CALNAME:Village Arts Factory
X-ORIGINAL-URL:https://villageartsfactory.com
X-WR-CALDESC:Events for Village Arts Factory
REFRESH-INTERVAL;VALUE=DURATION:PT1H
X-Robots-Tag:noindex
X-PUBLISHED-TTL:PT1H
BEGIN:VTIMEZONE
TZID:America/Detroit
BEGIN:DAYLIGHT
TZOFFSETFROM:-0500
TZOFFSETTO:-0400
TZNAME:EDT
DTSTART:20250309T070000
END:DAYLIGHT
BEGIN:STANDARD
TZOFFSETFROM:-0400
TZOFFSETTO:-0500
TZNAME:EST
DTSTART:20251102T060000
END:STANDARD
BEGIN:DAYLIGHT
TZOFFSETFROM:-0500
TZOFFSETTO:-0400
TZNAME:EDT
DTSTART:20260308T070000
END:DAYLIGHT
BEGIN:STANDARD
TZOFFSETFROM:-0400
TZOFFSETTO:-0500
TZNAME:EST
DTSTART:20261101T060000
END:STANDARD
BEGIN:DAYLIGHT
TZOFFSETFROM:-0500
TZOFFSETTO:-0400
TZNAME:EDT
DTSTART:20270314T070000
END:DAYLIGHT
BEGIN:STANDARD
TZOFFSETFROM:-0400
TZOFFSETTO:-0500
TZNAME:EST
DTSTART:20271107T060000
END:STANDARD
END:VTIMEZONE
BEGIN:VEVENT
DTSTART;TZID=America/Detroit:20260313T180000
DTEND;TZID=America/Detroit:20260313T200000
DTSTAMP:20260423T150842
CREATED:20260224T184122Z
LAST-MODIFIED:20260224T184122Z
UID:3315-1773424800-1773432000@villageartsfactory.com
SUMMARY:Art Exhibit Reception: Shared Frequencies
DESCRIPTION:This March\, the Village Arts Factory presents a vibrant pop-art exhibition showcasing three dynamic artists whose work reimagines contemporary culture through bold color\, layered imagery\, and personal narrative. \nChris Dragan (DraganPopArt) brings an energetic fusion of pop art\, abstraction\, and bricolage. Working with acrylics\, oils\, inks\, vintage magazines\, comics\, and found materials\, Dragan constructs visually striking compositions that invite viewers to interpret and emotionally engage with iconic imagery and unexpected textures. \nCassidy Barnett explores memory\, materiality\, and personal history through screen printing\, painting\, and fabric manipulation. Her layered works—often incorporating textiles and translucent surfaces—examine how recollection shifts over time\, blending nostalgia with contemporary visual language. \nChase Linden\, creator of OAOWORLD\, merges music\, fashion\, and visual art into colorful\, imaginative worlds rooted in curiosity and positive energy. His bold\, graphic style and sculptural elements reflect a playful spirit that connects viewers to creativity and community. \nTogether\, these artists offer distinct yet complementary approaches to pop-inspired expression—celebrating color\, culture\, memory\, and imagination. \nJoin us at the Village Arts Factory on Friday\, March 13\, for the opening reception of Shared Frequencies. Stop by between 6:00 and 8:00pm to meet the artists\, view the exhibit\, and enjoy a variety of light refreshments. There is no cost to attend and all are welcome!
URL:https://villageartsfactory.com/event/art-exhibit-reception-shared-frequencies/
LOCATION:Village Arts Factory\, 50755 Cherry Hill Rd\, Canton\, MI\, 48188\, United States
CATEGORIES:Public Events
ATTACH;FMTTYPE=image/png:https://villageartsfactory.com/wp-content/uploads/2026/02/Shared-Frequencies-2.png
ORGANIZER;CN="Village Arts Factory":MAILTO:kevin.ryan@cantonmi.gov
END:VEVENT
END:VCALENDAR