BEGIN:VCALENDAR
VERSION:2.0
PRODID:-//Village Arts Factory - ECPv6.15.20//NONSGML v1.0//EN
CALSCALE:GREGORIAN
METHOD:PUBLISH
X-ORIGINAL-URL:https://villageartsfactory.com
X-WR-CALDESC:Events for Village Arts Factory
REFRESH-INTERVAL;VALUE=DURATION:PT1H
X-Robots-Tag:noindex
X-PUBLISHED-TTL:PT1H
BEGIN:VTIMEZONE
TZID:America/Detroit
BEGIN:DAYLIGHT
TZOFFSETFROM:-0500
TZOFFSETTO:-0400
TZNAME:EDT
DTSTART:20250309T070000
END:DAYLIGHT
BEGIN:STANDARD
TZOFFSETFROM:-0400
TZOFFSETTO:-0500
TZNAME:EST
DTSTART:20251102T060000
END:STANDARD
BEGIN:DAYLIGHT
TZOFFSETFROM:-0500
TZOFFSETTO:-0400
TZNAME:EDT
DTSTART:20260308T070000
END:DAYLIGHT
BEGIN:STANDARD
TZOFFSETFROM:-0400
TZOFFSETTO:-0500
TZNAME:EST
DTSTART:20261101T060000
END:STANDARD
BEGIN:DAYLIGHT
TZOFFSETFROM:-0500
TZOFFSETTO:-0400
TZNAME:EDT
DTSTART:20270314T070000
END:DAYLIGHT
BEGIN:STANDARD
TZOFFSETFROM:-0400
TZOFFSETTO:-0500
TZNAME:EST
DTSTART:20271107T060000
END:STANDARD
END:VTIMEZONE
BEGIN:VEVENT
DTSTART;TZID=America/Detroit:20260319T180000
DTEND;TZID=America/Detroit:20260319T190000
DTSTAMP:20260423T151121
CREATED:20260114T194407Z
LAST-MODIFIED:20260317T190950Z
UID:3207-1773943200-1773946800@villageartsfactory.com
SUMMARY:Wildlife Night in the Village **EVENT POSTPONED**
DESCRIPTION:Unfortunately\, our Wildlife Night in the Village scheduled for this Thursday is being postponed due to unforeseen circumstances. Don’t worry—we’re working on a new date and can’t wait to bring these amazing creatures back to the Village soon! All ticket holders have been issued a full refund. For more information\, please contact: admin@partnershipforarts.org. Stay tuned… the wild things will return! \n\n\n\n\n\n\n\n\n\n\n\n\n\n\n\n—\n\n\n\n\n\n\n\nGet ready for an unforgettable evening of wild discoveries! Cherry Hill Village invites kids and families to Wildlife Night in the Village featuring amazing exotic animals from around the world\, hosted by Nelson\, “The Animal Guy”. Young animal lovers will get up close with fascinating creatures\, learn fun and surprising facts\, and hear engaging stories about animals you don’t usually see in your backyard. This interactive\, hands-on experience is designed to spark curiosity\, inspire learning\, and create lasting memories. Join us for an exciting night of adventure\, education\, and exotic wildlife fun right here in Cherry Hill Village! \nEvent Details \nDate: Thursday\, March 19th\, 2026 from 6:00PM-7:00PM \nLocation: 50755 Cherry Hill Road\, Canton\, MI\, 48188 \nCost: $10.00 per child- 2 adults per child ticket only* \nRefreshments: Animal crackers and juice provided! \n*Please only purchase tickets for your children; adults DO NOT need a separate ticket. To avoid overcapacity at the venue\, only 2 adults will be allowed entry per child. \n 
URL:https://villageartsfactory.com/event/wildlife-night-in-the-village/
LOCATION:Village Arts Factory\, 50755 Cherry Hill Rd\, Canton\, MI\, 48188\, United States
CATEGORIES:Public Events
ATTACH;FMTTYPE=image/png:https://villageartsfactory.com/wp-content/uploads/2026/01/Wildlife-in-the-Village-with-QR.png
ORGANIZER;CN="Village Arts Factory":MAILTO:kevin.ryan@cantonmi.gov
END:VEVENT
END:VCALENDAR