BEGIN:VCALENDAR
VERSION:2.0
PRODID:-//Village Arts Factory - ECPv6.15.20//NONSGML v1.0//EN
CALSCALE:GREGORIAN
METHOD:PUBLISH
X-ORIGINAL-URL:https://villageartsfactory.com
X-WR-CALDESC:Events for Village Arts Factory
REFRESH-INTERVAL;VALUE=DURATION:PT1H
X-Robots-Tag:noindex
X-PUBLISHED-TTL:PT1H
BEGIN:VTIMEZONE
TZID:America/Detroit
BEGIN:DAYLIGHT
TZOFFSETFROM:-0500
TZOFFSETTO:-0400
TZNAME:EDT
DTSTART:20250309T070000
END:DAYLIGHT
BEGIN:STANDARD
TZOFFSETFROM:-0400
TZOFFSETTO:-0500
TZNAME:EST
DTSTART:20251102T060000
END:STANDARD
BEGIN:DAYLIGHT
TZOFFSETFROM:-0500
TZOFFSETTO:-0400
TZNAME:EDT
DTSTART:20260308T070000
END:DAYLIGHT
BEGIN:STANDARD
TZOFFSETFROM:-0400
TZOFFSETTO:-0500
TZNAME:EST
DTSTART:20261101T060000
END:STANDARD
BEGIN:DAYLIGHT
TZOFFSETFROM:-0500
TZOFFSETTO:-0400
TZNAME:EDT
DTSTART:20270314T070000
END:DAYLIGHT
BEGIN:STANDARD
TZOFFSETFROM:-0400
TZOFFSETTO:-0500
TZNAME:EST
DTSTART:20271107T060000
END:STANDARD
END:VTIMEZONE
BEGIN:VEVENT
DTSTART;TZID=America/Detroit:20260329T190000
DTEND;TZID=America/Detroit:20260329T200000
DTSTAMP:20260423T134857
CREATED:20260212T191241Z
LAST-MODIFIED:20260324T143316Z
UID:3292-1774810800-1774814400@villageartsfactory.com
SUMMARY:The 24 Hour Play-Off
DESCRIPTION:Join us for the Village Theater’s first annual 24 Hour Play-Off! On Saturday\, March 28\, four local playwrights will draw prompts that will inspire four new plays to be written THAT NIGHT! Then\, on Sunday\, March 29\, local actors and directors have 12 hours to put on a show in front of a live audience. During the performances\, the audience will vote for the winning team! Don’t miss your chance to see these world-premier plays created in just 24 hours by local playwrights\, directors and actors! \nWhich team will reign supreme? Find out at the 24 Hour Play-Off! \nPerformance Details \nSunday\, March 29th\, 2026 \nDoors open at 6:30PM\, show begins at 7:00PM \n$5 per ticket\, online or in person \nGet Your Tickets Here!
URL:https://villageartsfactory.com/event/the-24-hour-play-off/
LOCATION:Village Theater\, 50400 Cherry Hill Rd\, Canton\, MI\, 48188\, United States
CATEGORIES:Public Events
ATTACH;FMTTYPE=image/png:https://villageartsfactory.com/wp-content/uploads/2026/02/24-Hr-Play-Off-NEON.png
END:VEVENT
END:VCALENDAR