BEGIN:VCALENDAR
VERSION:2.0
PRODID:-//Village Arts Factory - ECPv6.15.20//NONSGML v1.0//EN
CALSCALE:GREGORIAN
METHOD:PUBLISH
X-WR-CALNAME:Village Arts Factory
X-ORIGINAL-URL:https://villageartsfactory.com
X-WR-CALDESC:Events for Village Arts Factory
REFRESH-INTERVAL;VALUE=DURATION:PT1H
X-Robots-Tag:noindex
X-PUBLISHED-TTL:PT1H
BEGIN:VTIMEZONE
TZID:America/Detroit
BEGIN:DAYLIGHT
TZOFFSETFROM:-0500
TZOFFSETTO:-0400
TZNAME:EDT
DTSTART:20250309T070000
END:DAYLIGHT
BEGIN:STANDARD
TZOFFSETFROM:-0400
TZOFFSETTO:-0500
TZNAME:EST
DTSTART:20251102T060000
END:STANDARD
BEGIN:DAYLIGHT
TZOFFSETFROM:-0500
TZOFFSETTO:-0400
TZNAME:EDT
DTSTART:20260308T070000
END:DAYLIGHT
BEGIN:STANDARD
TZOFFSETFROM:-0400
TZOFFSETTO:-0500
TZNAME:EST
DTSTART:20261101T060000
END:STANDARD
BEGIN:DAYLIGHT
TZOFFSETFROM:-0500
TZOFFSETTO:-0400
TZNAME:EDT
DTSTART:20270314T070000
END:DAYLIGHT
BEGIN:STANDARD
TZOFFSETFROM:-0400
TZOFFSETTO:-0500
TZNAME:EST
DTSTART:20271107T060000
END:STANDARD
END:VTIMEZONE
BEGIN:VEVENT
DTSTART;TZID=America/Detroit:20260409T140000
DTEND;TZID=America/Detroit:20260409T160000
DTSTAMP:20260423T134816
CREATED:20260219T201937Z
LAST-MODIFIED:20260323T154551Z
UID:3300-1775743200-1775750400@villageartsfactory.com
SUMMARY:Write Your Life: A Memoir Workshop
DESCRIPTION:Everyone has a story worth telling. This April\, join author Dorothy J. Best\, M.A. for an inspiring four-week memoir workshop designed to help you turn your life experiences into meaningful\, compelling narrative. \nHeld on Thursdays in April from 2:00 PM–4:00 PM\, this interactive workshop offers a supportive space for writers of all levels. Whether you’re just beginning or looking to deepen a work in progress\, you’ll gain practical tools and creative momentum to move your story forward. \nLearn to: \n\nUse curated prompts to craft a personal narrative\nBuild a supportive community of writers\nGrow confidence in your work by sharing it in a collaborative environment\n\nEvent Details: \n\nFour Thursdays in April\, beginning April 9\n2:00pm-4:00pm\n$175.00 for all four sessions\n\nTuition Includes: \n\n4 group classes\nall course materials\n1 private edit session\nlight refreshments\n\nReserve your seat today and learn how to write about your life from a professional author!
URL:https://villageartsfactory.com/event/write-your-life-memoir-workshop/
LOCATION:Village Arts Factory\, 50755 Cherry Hill Rd\, Canton\, MI\, 48188\, United States
CATEGORIES:Public Events
ATTACH;FMTTYPE=image/png:https://villageartsfactory.com/wp-content/uploads/2026/02/Memoir-Workshop-175-1920-x-1080-px.png
ORGANIZER;CN="Village Arts Factory":MAILTO:kevin.ryan@cantonmi.gov
END:VEVENT
END:VCALENDAR