BEGIN:VCALENDAR
VERSION:2.0
PRODID:-//Village Arts Factory - ECPv6.15.20//NONSGML v1.0//EN
CALSCALE:GREGORIAN
METHOD:PUBLISH
X-WR-CALNAME:Village Arts Factory
X-ORIGINAL-URL:https://villageartsfactory.com
X-WR-CALDESC:Events for Village Arts Factory
REFRESH-INTERVAL;VALUE=DURATION:PT1H
X-Robots-Tag:noindex
X-PUBLISHED-TTL:PT1H
BEGIN:VTIMEZONE
TZID:America/Detroit
BEGIN:DAYLIGHT
TZOFFSETFROM:-0500
TZOFFSETTO:-0400
TZNAME:EDT
DTSTART:20250309T070000
END:DAYLIGHT
BEGIN:STANDARD
TZOFFSETFROM:-0400
TZOFFSETTO:-0500
TZNAME:EST
DTSTART:20251102T060000
END:STANDARD
BEGIN:DAYLIGHT
TZOFFSETFROM:-0500
TZOFFSETTO:-0400
TZNAME:EDT
DTSTART:20260308T070000
END:DAYLIGHT
BEGIN:STANDARD
TZOFFSETFROM:-0400
TZOFFSETTO:-0500
TZNAME:EST
DTSTART:20261101T060000
END:STANDARD
BEGIN:DAYLIGHT
TZOFFSETFROM:-0500
TZOFFSETTO:-0400
TZNAME:EDT
DTSTART:20270314T070000
END:DAYLIGHT
BEGIN:STANDARD
TZOFFSETFROM:-0400
TZOFFSETTO:-0500
TZNAME:EST
DTSTART:20271107T060000
END:STANDARD
END:VTIMEZONE
BEGIN:VEVENT
DTSTART;TZID=America/Detroit:20260412T130000
DTEND;TZID=America/Detroit:20260412T160000
DTSTAMP:20260423T134628
CREATED:20260309T163035Z
LAST-MODIFIED:20260309T163136Z
UID:3329-1775998800-1776009600@villageartsfactory.com
SUMMARY:Assemblage Art Workshop with Daniel Zuber
DESCRIPTION:Join us at the Village Arts Factory for a playful and creative open studio crafting experience where imagination takes the lead! \nArtist Daniel Zuber will bring his massive collection of unique rock-tumbled wood bits\, beads\, found objects\, and curious materials for you to explore. Browse the pieces\, fill a container with your favorites\, grab a glue gun\, and start building your own abstract assemblage creation. \nThis is not a traditional class—it’s an open studio where you’re free to experiment\, explore\, and create at your own pace. Daniel will give a quick demonstration on composition and then be available throughout the event to offer guidance and inspiration. \nNo templates. No copying. Just creativity\, curiosity\, and a chance to feel like a kid again. \n✨ All tools and materials are provided—just bring your imagination! \n📅 Sunday\, April 12 \n🕐 1:00–4:00 PM \n📍 Village Arts Factory – Community Room \n50755 Cherry Hill Rd\, Suite 10 \nCanton\, MI 48188 \n💲 Pricing \n• 1 person – $30 \n• 2 people – $50 \n• 3 people – $70 \n• 4 people – $80 \n📧 Reserve your seat: \nzuber.daniel72@gmail.com \nSpots are limited\, so email to reserve your place. Come build\, experiment\, and see where the materials take you!
URL:https://villageartsfactory.com/event/assemblage-art-workshop-with-daniel-zuber/
LOCATION:Village Arts Factory\, 50755 Cherry Hill Rd\, Canton\, MI\, 48188\, United States
CATEGORIES:Public Events
ATTACH;FMTTYPE=image/png:https://villageartsfactory.com/wp-content/uploads/2026/03/Zuber-April-2026.png
ORGANIZER;CN="Daniel Zuber":MAILTO:zuber.daniel72@gmail.com
END:VEVENT
END:VCALENDAR