BEGIN:VCALENDAR
VERSION:2.0
PRODID:-//Village Arts Factory - ECPv6.15.20//NONSGML v1.0//EN
CALSCALE:GREGORIAN
METHOD:PUBLISH
X-ORIGINAL-URL:https://villageartsfactory.com
X-WR-CALDESC:Events for Village Arts Factory
REFRESH-INTERVAL;VALUE=DURATION:PT1H
X-Robots-Tag:noindex
X-PUBLISHED-TTL:PT1H
BEGIN:VTIMEZONE
TZID:America/Detroit
BEGIN:DAYLIGHT
TZOFFSETFROM:-0500
TZOFFSETTO:-0400
TZNAME:EDT
DTSTART:20250309T070000
END:DAYLIGHT
BEGIN:STANDARD
TZOFFSETFROM:-0400
TZOFFSETTO:-0500
TZNAME:EST
DTSTART:20251102T060000
END:STANDARD
BEGIN:DAYLIGHT
TZOFFSETFROM:-0500
TZOFFSETTO:-0400
TZNAME:EDT
DTSTART:20260308T070000
END:DAYLIGHT
BEGIN:STANDARD
TZOFFSETFROM:-0400
TZOFFSETTO:-0500
TZNAME:EST
DTSTART:20261101T060000
END:STANDARD
BEGIN:DAYLIGHT
TZOFFSETFROM:-0500
TZOFFSETTO:-0400
TZNAME:EDT
DTSTART:20270314T070000
END:DAYLIGHT
BEGIN:STANDARD
TZOFFSETFROM:-0400
TZOFFSETTO:-0500
TZNAME:EST
DTSTART:20271107T060000
END:STANDARD
END:VTIMEZONE
BEGIN:VEVENT
DTSTART;TZID=America/Detroit:20260417T170000
DTEND;TZID=America/Detroit:20260417T190000
DTSTAMP:20260423T134729
CREATED:20260309T183436Z
LAST-MODIFIED:20260312T142841Z
UID:3332-1776445200-1776452400@villageartsfactory.com
SUMMARY:Holi Festival of Colors
DESCRIPTION:Celebrate the vibrant spirit of Holi\, the joyful Indian festival that welcomes the arrival of spring and celebrates renewal\, unity\, and the triumph of good over evil. This colorful tradition brings communities together through art\, culture\, and shared celebration.   \nJoin us for a lively evening filled with creativity\, culture\, and color at the Village Arts Factory in Canton! Families and friends of all ages are invited to explore the cultural significance of Holi while enjoying a festive atmosphere of art and community. \n🎨 Free art activities for families \n🫖 Free chai courtesy of CupsnChai Canton \n🍛 Authentic Indian food offerings ($) \n🍨 Traditional Indian ice cream to cool off with ($) \n🌸 A joyful celebration of color\, culture\, and spring \nBring your friends\, bring your family\, and come experience a festival that celebrates life\, renewal\, and the beauty of coming together as a community. \n📅 April 17\, 2026 \n⏰ 5:00 – 7:00 PM \n📍 Village Arts Factory \n50755 Cherry Hill Road\, Canton\, MI \nLet’s welcome spring together in a celebration bursting with color\, creativity\, and joy! 🌈🎉 \nOur Generous Event Sponsors
URL:https://villageartsfactory.com/event/holi-festival-of-colors/
LOCATION:Village Arts Factory\, 50755 Cherry Hill Rd\, Canton\, MI\, 48188\, United States
CATEGORIES:Public Events
ATTACH;FMTTYPE=image/png:https://villageartsfactory.com/wp-content/uploads/2026/03/Holi-Festival-of-Colors-2026-Banner.png
ORGANIZER;CN="Village Arts Factory":MAILTO:kevin.ryan@cantonmi.gov
END:VEVENT
END:VCALENDAR