BEGIN:VCALENDAR
VERSION:2.0
PRODID:-//Village Arts Factory - ECPv6.15.20//NONSGML v1.0//EN
CALSCALE:GREGORIAN
METHOD:PUBLISH
X-WR-CALNAME:Village Arts Factory
X-ORIGINAL-URL:https://villageartsfactory.com
X-WR-CALDESC:Events for Village Arts Factory
REFRESH-INTERVAL;VALUE=DURATION:PT1H
X-Robots-Tag:noindex
X-PUBLISHED-TTL:PT1H
BEGIN:VTIMEZONE
TZID:America/Detroit
BEGIN:DAYLIGHT
TZOFFSETFROM:-0500
TZOFFSETTO:-0400
TZNAME:EDT
DTSTART:20250309T070000
END:DAYLIGHT
BEGIN:STANDARD
TZOFFSETFROM:-0400
TZOFFSETTO:-0500
TZNAME:EST
DTSTART:20251102T060000
END:STANDARD
BEGIN:DAYLIGHT
TZOFFSETFROM:-0500
TZOFFSETTO:-0400
TZNAME:EDT
DTSTART:20260308T070000
END:DAYLIGHT
BEGIN:STANDARD
TZOFFSETFROM:-0400
TZOFFSETTO:-0500
TZNAME:EST
DTSTART:20261101T060000
END:STANDARD
BEGIN:DAYLIGHT
TZOFFSETFROM:-0500
TZOFFSETTO:-0400
TZNAME:EDT
DTSTART:20270314T070000
END:DAYLIGHT
BEGIN:STANDARD
TZOFFSETFROM:-0400
TZOFFSETTO:-0500
TZNAME:EST
DTSTART:20271107T060000
END:STANDARD
END:VTIMEZONE
BEGIN:VEVENT
DTSTART;TZID=America/Detroit:20260512T183000
DTEND;TZID=America/Detroit:20260512T200000
DTSTAMP:20260423T150836
CREATED:20260420T181231Z
LAST-MODIFIED:20260420T182427Z
UID:3453-1778610600-1778616000@villageartsfactory.com
SUMMARY:Bhangra Dance Night at the Arts Warehouse
DESCRIPTION:Join us for our first Bhangra Dance Night at the Village Arts Warehouse! Bring yourself or a dance partner and enjoy learning this high-energy dance from the Punjab region of India. Indian-style bites and snacks will be available for participants to enjoy before the dance lesson begins. The cost is just $15 per person or $25 for a pair. This class is geared for young adults and adults\, ages 16+ only\, please. Come and meet new friends\, experience Punjabi culture through food and dance\, and leave feeling energized and invigorated! \nWhat is Bhangra? \nBhangra is a high-energy dance from Punjab\, known for its powerful movements\, upbeat music\, and infectious rhythm. It’s all about having fun\, expressing yourself\, and bringing great energy to the floor. This class is beginner-friendly and open for young adults and adults\, ages 16+. Participants will learn simple steps\, easy combinations\, and get a feel for the style and vibe of Bhangra. No experience needed\, just come ready to move and have a good time. \nInstruction will be led by RVD Academy\, a local dance academy dedicated to sharing Indian culture through dance. \nEvent Information \n6:30pm — Arrival\, Snacks & Social Time \n7:00pm — Bhangra Dance Instruction \n8:00pm — Event Conclusion \nFor more information\, please contact Shalisa at: shalisa.seidl@cantonmi.gov \nClick Here to Register! \n  \nThis program is made possible through generous grant funding from the Michigan Arts & Culture Council and the National Endowment for the Arts.
URL:https://villageartsfactory.com/event/bhangra-dance-night-at-the-arts-warehouse/
LOCATION:Village Arts Factory\, 50755 Cherry Hill Rd\, Canton\, MI\, 48188\, United States
CATEGORIES:Public Events
ATTACH;FMTTYPE=image/png:https://villageartsfactory.com/wp-content/uploads/2026/04/Bhangra-Dance-Night-3.0.png
ORGANIZER;CN="Village Arts Factory":MAILTO:kevin.ryan@cantonmi.gov
END:VEVENT
END:VCALENDAR