BEGIN:VCALENDAR
VERSION:2.0
PRODID:-//Village Arts Factory - ECPv6.15.20//NONSGML v1.0//EN
CALSCALE:GREGORIAN
METHOD:PUBLISH
X-ORIGINAL-URL:https://villageartsfactory.com
X-WR-CALDESC:Events for Village Arts Factory
REFRESH-INTERVAL;VALUE=DURATION:PT1H
X-Robots-Tag:noindex
X-PUBLISHED-TTL:PT1H
BEGIN:VTIMEZONE
TZID:America/Detroit
BEGIN:DAYLIGHT
TZOFFSETFROM:-0500
TZOFFSETTO:-0400
TZNAME:EDT
DTSTART:20250309T070000
END:DAYLIGHT
BEGIN:STANDARD
TZOFFSETFROM:-0400
TZOFFSETTO:-0500
TZNAME:EST
DTSTART:20251102T060000
END:STANDARD
BEGIN:DAYLIGHT
TZOFFSETFROM:-0500
TZOFFSETTO:-0400
TZNAME:EDT
DTSTART:20260308T070000
END:DAYLIGHT
BEGIN:STANDARD
TZOFFSETFROM:-0400
TZOFFSETTO:-0500
TZNAME:EST
DTSTART:20261101T060000
END:STANDARD
BEGIN:DAYLIGHT
TZOFFSETFROM:-0500
TZOFFSETTO:-0400
TZNAME:EDT
DTSTART:20270314T070000
END:DAYLIGHT
BEGIN:STANDARD
TZOFFSETFROM:-0400
TZOFFSETTO:-0500
TZNAME:EST
DTSTART:20271107T060000
END:STANDARD
END:VTIMEZONE
BEGIN:VEVENT
DTSTART;TZID=America/Detroit:20260426T140000
DTEND;TZID=America/Detroit:20260426T160000
DTSTAMP:20260423T110739
CREATED:20260406T142439Z
LAST-MODIFIED:20260406T142542Z
UID:3416-1777212000-1777219200@villageartsfactory.com
SUMMARY:Rooted to Remember: Notes & Nostalgia
DESCRIPTION:Step into a world of scent\, memory\, and creativity at Notes & Nostalgia\, a unique sensory candle and perfume experience presented by Rooted to Remember\, a community creative collective. \nDuring this immersive workshop\, participants will explore the powerful connection between fragrance and memory. Guided by special guest host True2You Studio and Shop\, you’ll blend custom scent notes that reflect your personal story—capturing mood\, meaning\, and moments that feel like home. Each note is chosen with intention\, resulting in a beautifully personalized travel perfume to take with you. \nWhether you’re drawn to soft florals\, warm woods\, or something entirely your own\, this experience invites you to slow down\, stay curious\, and create something deeply personal. \nEvent Details: \nDate: April 26\, 2026 \nTime: 2:00 PM – 4:00 PM \nLocation: 50755 Cherry Hill Road\, Canton\, MI \nJoin us for an afternoon of creativity\, connection\, and scent exploration—where nostalgia meets artistry. Click here to sign up today!
URL:https://villageartsfactory.com/event/rooted-to-remember-notes-nostalgia/
LOCATION:Village Arts Factory\, 50755 Cherry Hill Rd\, Canton\, MI\, 48188\, United States
CATEGORIES:Public Events
ATTACH;FMTTYPE=image/jpeg:https://villageartsfactory.com/wp-content/uploads/2026/04/198.jpg
ORGANIZER;CN="Rooted Vision Photography":MAILTO:rootedvision@outlook.com
END:VEVENT
BEGIN:VEVENT
DTSTART;TZID=America/Detroit:20260428T170000
DTEND;TZID=America/Detroit:20260428T190000
DTSTAMP:20260423T110739
CREATED:20260309T194659Z
LAST-MODIFIED:20260421T173055Z
UID:3338-1777395600-1777402800@villageartsfactory.com
SUMMARY:Earth Day in the Village
DESCRIPTION:Earth Day in the Village returns this April for its second year\, proudly sponsored by Primrose School of Canton! Join the Village Arts Factory and Canton Nature Society at Workman Square in Cherry Hill Village on Tuesday\, April 28\, for a fun evening of Earth Day themed activities for the whole family\, including arts and crafts\, snacks\, music\, and free tree saplings\, while supplies last. The event will run from 5:00pm to 7:00pm and there is no cost to attend. Stop by and join us in celebrating the greatest artist of all — Mother Nature! \nWorkman Square is located on the northeast corner of Cherry Hill and Denton Roads in Cherry Hill Village. For GPS navigation\, you can use the address: 250 N Denton Road\, Canton\, MI 48187 \nFor more information about this event\, please call: 734-386-0650
URL:https://villageartsfactory.com/event/earth-day-in-the-village-2/
LOCATION:Workman Square\, 250 N. Denton Road\, Canton\, MI\, 48187\, United States
CATEGORIES:Public Events
ATTACH;FMTTYPE=image/png:https://villageartsfactory.com/wp-content/uploads/2026/03/Earth-Day-in-the-Village-2026-4.0-3-16x9-Banner.png
ORGANIZER;CN="Village Arts Factory":MAILTO:kevin.ryan@cantonmi.gov
END:VEVENT
BEGIN:VEVENT
DTSTART;TZID=America/Detroit:20260502T090000
DTEND;TZID=America/Detroit:20260502T100000
DTSTAMP:20260423T110739
CREATED:20260211T183143Z
LAST-MODIFIED:20260224T170750Z
UID:3280-1777712400-1777716000@villageartsfactory.com
SUMMARY:Art in Bloom: Color Run
DESCRIPTION:Kick off spring with the vibrant Art in Bloom: Color Run\, a fun\, family-friendly 5K run/walk through picturesque Cherry Hill Village! Whether you run\, walk\, jog\, or skip\, this colorful community event is designed for participants of all ages and abilities.   \nAs you move along the scenic 5K course starting and ending at Preservation Park\, you’ll encounter color stations where volunteers shower runners with bright\, eco-friendly powder—turning every step into a celebration of movement\, art\, and joy.   \nProceeds from the Art in Bloom: Color Run benefit the Partnership for the Arts and the Village Arts Factory\, supporting year-round arts programming\, community events\, galleries\, and creative opportunities throughout Cherry Hill Village.   \nSchedule \n\n8:00 AM – Same-day registration & packet pickup\n9:00 AM – 5K Run/Walk begins\n\nRegistration \nEarly registration offers $35 discounted pricing\, with fees increasing on April 1\, 2026. Ages 16 and under can register for the special youth price of just $25. \nBring your friends\, family\, and sneakers for a morning filled with color\, fun\, and community spirit. Celebrate spring and support the arts in a uniquely joyful way at the Villages Arts Factory’s Art in Bloom: Color Run! \nClick Here to Register!
URL:https://villageartsfactory.com/event/art-in-bloom-color-run/
LOCATION:Preservation Park\, 500 Ridge Rd N\, Canton\, MI\, 48188\, United States
CATEGORIES:Public Events
ATTACH;FMTTYPE=image/png:https://villageartsfactory.com/wp-content/uploads/2026/02/3.png
ORGANIZER;CN="Village Arts Factory":MAILTO:kevin.ryan@cantonmi.gov
END:VEVENT
BEGIN:VEVENT
DTSTART;TZID=America/Detroit:20260502T100000
DTEND;TZID=America/Detroit:20260502T170000
DTSTAMP:20260423T110739
CREATED:20260406T144138Z
LAST-MODIFIED:20260406T144138Z
UID:3421-1777716000-1777741200@villageartsfactory.com
SUMMARY:Art in Bloom: Spring Artisan Market
DESCRIPTION:Join us at the Village Arts Factory on Saturday\, May 2nd\, for the return of our annual spring art festival\, Art in Bloom! Stop by between 10:00am and 5:00pm to show a variety of artisan vendors\, studio tenants\, coffee\, and tasty food options.
URL:https://villageartsfactory.com/event/art-in-bloom-spring-artisan-market-3/
LOCATION:Village Arts Factory\, 50755 Cherry Hill Rd\, Canton\, MI\, 48188\, United States
CATEGORIES:Public Events
ATTACH;FMTTYPE=image/png:https://villageartsfactory.com/wp-content/uploads/2026/04/Art-in-Bloom-TV-3.png
ORGANIZER;CN="Village Arts Factory":MAILTO:kevin.ryan@cantonmi.gov
END:VEVENT
BEGIN:VEVENT
DTSTART;TZID=America/Detroit:20260509T100000
DTEND;TZID=America/Detroit:20260509T113000
DTSTAMP:20260423T110739
CREATED:20260331T180211Z
LAST-MODIFIED:20260331T180607Z
UID:3390-1778320800-1778326200@villageartsfactory.com
SUMMARY:Cherry Hill Village Art Walk
DESCRIPTION:Join us for a special series of quarterly Art Walks set in the picturesque charm of Cherry Hill Village—where art\, community\, and a little adventure come together. \nWe’ll begin our journey at the Village Theater\, where you’ll be welcomed with coffee and donuts as you take in the current exhibition at The Gallery at Cherry Hill (50400 Cherry Hill Road). From there\, we’ll enjoy a guided stroll to the Village Arts Factory (50755 Cherry Hill Road) for a behind-the-scenes look at this creative hub\, including a tour of the Arts Warehouse’s latest fine arts exhibition. \nIt’s the perfect way to spend a morning connecting with art\, meeting fellow art lovers\, and experiencing the vibrant creative energy of the community—all in a relaxed\, walkable setting. \nThese events are free and open to the public\, but pre-registration is required. \n2026 Art Walk DatesMay 9July 11October 10 \nCome take a walk with us—you never know what inspiration you’ll discover along the way. \nClick Here to Register! \nSpecial thanks to our generous coffee sponsor\, Wild Wolf Coffee\, for providing free coffee for participants! Wild Wolf Coffee is a local\, independent coffee roaster located at the Village Arts Factory in Canton\, Michigan.
URL:https://villageartsfactory.com/event/cherry-hill-village-art-walk-6/
LOCATION:Village Theater\, 50400 Cherry Hill Rd\, Canton\, MI\, 48188\, United States
CATEGORIES:Public Events
ATTACH;FMTTYPE=image/png:https://villageartsfactory.com/wp-content/uploads/2026/03/2026-Art-Walks-scaled.png
ORGANIZER;CN="Village Arts Factory":MAILTO:kevin.ryan@cantonmi.gov
END:VEVENT
BEGIN:VEVENT
DTSTART;TZID=America/Detroit:20260512T183000
DTEND;TZID=America/Detroit:20260512T200000
DTSTAMP:20260423T110739
CREATED:20260420T181231Z
LAST-MODIFIED:20260420T182427Z
UID:3453-1778610600-1778616000@villageartsfactory.com
SUMMARY:Bhangra Dance Night at the Arts Warehouse
DESCRIPTION:Join us for our first Bhangra Dance Night at the Village Arts Warehouse! Bring yourself or a dance partner and enjoy learning this high-energy dance from the Punjab region of India. Indian-style bites and snacks will be available for participants to enjoy before the dance lesson begins. The cost is just $15 per person or $25 for a pair. This class is geared for young adults and adults\, ages 16+ only\, please. Come and meet new friends\, experience Punjabi culture through food and dance\, and leave feeling energized and invigorated! \nWhat is Bhangra? \nBhangra is a high-energy dance from Punjab\, known for its powerful movements\, upbeat music\, and infectious rhythm. It’s all about having fun\, expressing yourself\, and bringing great energy to the floor. This class is beginner-friendly and open for young adults and adults\, ages 16+. Participants will learn simple steps\, easy combinations\, and get a feel for the style and vibe of Bhangra. No experience needed\, just come ready to move and have a good time. \nInstruction will be led by RVD Academy\, a local dance academy dedicated to sharing Indian culture through dance. \nEvent Information \n6:30pm — Arrival\, Snacks & Social Time \n7:00pm — Bhangra Dance Instruction \n8:00pm — Event Conclusion \nFor more information\, please contact Shalisa at: shalisa.seidl@cantonmi.gov \nClick Here to Register! \n  \nThis program is made possible through generous grant funding from the Michigan Arts & Culture Council and the National Endowment for the Arts.
URL:https://villageartsfactory.com/event/bhangra-dance-night-at-the-arts-warehouse/
LOCATION:Village Arts Factory\, 50755 Cherry Hill Rd\, Canton\, MI\, 48188\, United States
CATEGORIES:Public Events
ATTACH;FMTTYPE=image/png:https://villageartsfactory.com/wp-content/uploads/2026/04/Bhangra-Dance-Night-3.0.png
ORGANIZER;CN="Village Arts Factory":MAILTO:kevin.ryan@cantonmi.gov
END:VEVENT
BEGIN:VEVENT
DTSTART;TZID=America/Detroit:20260517T130000
DTEND;TZID=America/Detroit:20260517T160000
DTSTAMP:20260423T110739
CREATED:20260414T180029Z
LAST-MODIFIED:20260416T132839Z
UID:3438-1779022800-1779033600@villageartsfactory.com
SUMMARY:CYCLE Collage & Mixed Media Workshop
DESCRIPTION:Join artist Daniel Zuber for a creative exploration of esoteric symbolism & mysteries through collage & mixed media\, May 17th 1-4 pm. \nWhat is the tree\, the cube\, the all-seeing eye? Let’s create\, going deep into the mysteries while listening to the powerful music of Hans Zimmer! \nSacred geometry\, syncrinicities\, life and death\, sacred numbers\, spiritual symbolism\, deep hidden knowledge\, order and chaos\, time and space will inspire you to search your inner artist and manifest something beyond words. \nThis will be an objective exploration of mysteries without dogma\, preaching\, or persuasion of any kind. Learn about juxtaposition\, compositions\, concept\, process\, connection\, visual language\, read path\, mapping\, and structure\, to name a few! \nCost: $30 per person\, includes all materials. Bring your creativity and an open mind! \nEmail zuber.daniel72@gmail.com to secure your seat
URL:https://villageartsfactory.com/event/cycle-collage-mixed-media-workshop/
LOCATION:Village Arts Factory\, 50755 Cherry Hill Rd\, Canton\, MI\, 48188\, United States
CATEGORIES:Public Events
ATTACH;FMTTYPE=image/png:https://villageartsfactory.com/wp-content/uploads/2026/04/Assemblage-Art-CYCLE-Banner-Image.png
ORGANIZER;CN="Daniel Zuber":MAILTO:zuber.daniel72@gmail.com
END:VEVENT
BEGIN:VEVENT
DTSTART;TZID=America/Detroit:20260520T163000
DTEND;TZID=America/Detroit:20260520T183000
DTSTAMP:20260423T110739
CREATED:20260414T184642Z
LAST-MODIFIED:20260414T184642Z
UID:3446-1779294600-1779301800@villageartsfactory.com
SUMMARY:My Shining Shape Mosaic Workshop
DESCRIPTION:In this 2-day youth workshop\, artist Ghada Ayoub will help participants turn their chosen shapes into a colorful glass mosaic that tells something special about themselves! \nThis workshop is appropriate for children ages 10-17 years of age. \nAll materials are included. \nFor more information please email jennifer.collins@cantonmi.gov or call 734-394-5374. \nClick Here to Register Today!
URL:https://villageartsfactory.com/event/my-shining-shape-mosaic-workshop/
LOCATION:Village Arts Factory\, 50755 Cherry Hill Rd\, Canton\, MI\, 48188\, United States
CATEGORIES:Public Events
ATTACH;FMTTYPE=image/png:https://villageartsfactory.com/wp-content/uploads/2026/04/My-Shining-Shape-Art-Workshops.png
ORGANIZER;CN="Village Arts Factory":MAILTO:kevin.ryan@cantonmi.gov
END:VEVENT
BEGIN:VEVENT
DTSTART;TZID=America/Detroit:20260528T181500
DTEND;TZID=America/Detroit:20260528T201500
DTSTAMP:20260423T110739
CREATED:20260227T164504Z
LAST-MODIFIED:20260227T164504Z
UID:3323-1779992100-1779999300@villageartsfactory.com
SUMMARY:Glass Fusion Workshop: Spring Dragonfly
DESCRIPTION:Celebrate the season with color\, creativity\, and a little sparkle in this beginner-friendly fused glass workshop on Thursday\, May 28th from 6:15–8:15 PM. For just $44\, you’ll create a stunning glass dragonfly piece that will brighten any space. \nLaurie of Kiss My Glass will guide you step-by-step through the magic of working with fused glass. You’ll start with a pre-cut blue glass background and choose whether you’d like to create a nightlight or a suncatcher. Then the fun begins — select from a beautiful assortment of vibrant glass colors to design your very own dragonfly exactly the way you envision it. \nDuring class\, you’ll arrange and glue your glass pieces into place. Afterward\, Laurie will kiln-fire your project to fuse it into a finished work of art. Completed pieces will be ready for pickup at the Art Center in approximately 10–12 days\, and all registered participants will receive an email notification when they are ready. \nThis class is perfect for adults of all ages and skill levels — no prior experience needed. Whether you come with friends or enjoy a creative evening for yourself\, you’ll leave inspired and excited to see your finished piece. \nPlease Note: \n\nWear closed-toed shoes.\nDrinks are welcome\, but food is not permitted in the studio (food and glass do not mix).\n\nRefund Policy: \nThere are no refunds for this class. If an emergency arises and you’re unable to attend\, you have two options: \n\nSend someone in your place\, or\nMake up the class by registering and paying for the next month’s session and creating two projects that evening.\n\nTo qualify for the makeup option\, you must contact Laurie within 72 hours of the missed class at KissMyGlassArt@yahoo.com. \nSpots are limited\, so register early and join us for a colorful evening of creativity. Your spring dragonfly is waiting to take flight. \nClick Here to Sign Up!
URL:https://villageartsfactory.com/event/glass-fusion-workshop-spring-dragonfly/
LOCATION:Village Arts Factory\, 50755 Cherry Hill Rd\, Canton\, MI\, 48188\, United States
CATEGORIES:Public Events
ATTACH;FMTTYPE=image/png:https://villageartsfactory.com/wp-content/uploads/2026/02/Glass-Fusion-Workshop-Dragonfly.png
ORGANIZER;CN="Kiss My Glass":MAILTO:kissmyglassart@yahoo.com
END:VEVENT
BEGIN:VEVENT
DTSTART;TZID=America/Detroit:20260711T100000
DTEND;TZID=America/Detroit:20260711T113000
DTSTAMP:20260423T110739
CREATED:20260331T180806Z
LAST-MODIFIED:20260331T180806Z
UID:3398-1783764000-1783769400@villageartsfactory.com
SUMMARY:Cherry Hill Village Art Walk
DESCRIPTION:Join us for a special series of quarterly Art Walks set in the picturesque charm of Cherry Hill Village—where art\, community\, and a little adventure come together. \nWe’ll begin our journey at the Village Theater\, where you’ll be welcomed with coffee and donuts as you take in the current exhibition at The Gallery at Cherry Hill (50400 Cherry Hill Road). From there\, we’ll enjoy a guided stroll to the Village Arts Factory (50755 Cherry Hill Road) for a behind-the-scenes look at this creative hub\, including a tour of the Arts Warehouse’s latest fine arts exhibition. \nIt’s the perfect way to spend a morning connecting with art\, meeting fellow art lovers\, and experiencing the vibrant creative energy of the community—all in a relaxed\, walkable setting. \nThese events are free and open to the public\, but pre-registration is required. \n2026 Art Walk DatesMay 9July 11October 10 \nCome take a walk with us—you never know what inspiration you’ll discover along the way. \nClick Here to Register! \nSpecial thanks to our generous coffee sponsor\, Wild Wolf Coffee\, for providing free coffee for participants! Wild Wolf Coffee is a local\, independent coffee roaster located at the Village Arts Factory in Canton\, Michigan.
URL:https://villageartsfactory.com/event/cherry-hill-village-art-walk-7/
LOCATION:Village Theater\, 50400 Cherry Hill Rd\, Canton\, MI\, 48188\, United States
CATEGORIES:Public Events
ATTACH;FMTTYPE=image/png:https://villageartsfactory.com/wp-content/uploads/2026/03/2026-Art-Walks-scaled.png
ORGANIZER;CN="Village Arts Factory":MAILTO:kevin.ryan@cantonmi.gov
END:VEVENT
BEGIN:VEVENT
DTSTART;TZID=America/Detroit:20260801T100000
DTEND;TZID=America/Detroit:20260801T160000
DTSTAMP:20260423T110739
CREATED:20260414T140858Z
LAST-MODIFIED:20260414T142334Z
UID:3435-1785578400-1785600000@villageartsfactory.com
SUMMARY:Rooted Vision Photography: Back to School Mini Sessions
DESCRIPTION:Capture the excitement of a new school year with our Back to School Photo Special by Rooted Vision Photography! This limited-time mini session is the perfect way to preserve your child’s personality\, style\, and milestone moment as they head into a brand-new academic year. \nEach session includes a 10-minute professionally styled photoshoot in a charming\, school-themed setting designed to bring out warm\, timeless portraits. You’ll receive 3+ beautifully edited digital images\, along with a print release and access to a convenient online gallery for viewing and downloading your photos. \nWhether you’re commemorating a first day of kindergarten or another year of growth\, this quick and fun experience delivers high-quality images you’ll treasure for years to come. \nSession Details: \n\n10-minute mini session\n3+ edited digital images\nPrint release included\nOnline gallery access\n\nCost: $49 per session \nDates: Saturday\, August 1 & September 19 \nSpots are limited—reserve your session today and start the school year with memories that last a lifetime!
URL:https://villageartsfactory.com/event/rooted-vision-photography-back-to-school-mini-sessions/
LOCATION:Village Arts Factory\, 50755 Cherry Hill Rd\, Canton\, MI\, 48188\, United States
CATEGORIES:Public Events
ATTACH;FMTTYPE=image/jpeg:https://villageartsfactory.com/wp-content/uploads/2026/04/Rooted-Back-to-School-scaled.jpg
ORGANIZER;CN="Rooted Vision Photography":MAILTO:rootedvision@outlook.com
END:VEVENT
BEGIN:VEVENT
DTSTART;TZID=America/Detroit:20261010T100000
DTEND;TZID=America/Detroit:20261010T233000
DTSTAMP:20260423T110739
CREATED:20260331T181023Z
LAST-MODIFIED:20260331T181023Z
UID:3400-1791626400-1791675000@villageartsfactory.com
SUMMARY:Cherry Hill Village Art Walk
DESCRIPTION:Join us for a special series of quarterly Art Walks set in the picturesque charm of Cherry Hill Village—where art\, community\, and a little adventure come together. \nWe’ll begin our journey at the Village Theater\, where you’ll be welcomed with coffee and donuts as you take in the current exhibition at The Gallery at Cherry Hill (50400 Cherry Hill Road). From there\, we’ll enjoy a guided stroll to the Village Arts Factory (50755 Cherry Hill Road) for a behind-the-scenes look at this creative hub\, including a tour of the Arts Warehouse’s latest fine arts exhibition. \nIt’s the perfect way to spend a morning connecting with art\, meeting fellow art lovers\, and experiencing the vibrant creative energy of the community—all in a relaxed\, walkable setting. \nThese events are free and open to the public\, but pre-registration is required. \n2026 Art Walk DatesMay 9July 11October 10 \nCome take a walk with us—you never know what inspiration you’ll discover along the way. \nClick Here to Register! \nSpecial thanks to our generous coffee sponsor\, Wild Wolf Coffee\, for providing free coffee for participants! Wild Wolf Coffee is a local\, independent coffee roaster located at the Village Arts Factory in Canton\, Michigan.
URL:https://villageartsfactory.com/event/cherry-hill-village-art-walk-8/
LOCATION:Village Theater\, 50400 Cherry Hill Rd\, Canton\, MI\, 48188\, United States
CATEGORIES:Public Events
ATTACH;FMTTYPE=image/png:https://villageartsfactory.com/wp-content/uploads/2026/03/2026-Art-Walks-scaled.png
ORGANIZER;CN="Village Arts Factory":MAILTO:kevin.ryan@cantonmi.gov
END:VEVENT
END:VCALENDAR