BEGIN:VCALENDAR
VERSION:2.0
PRODID:-//Village Arts Factory - ECPv6.15.20//NONSGML v1.0//EN
CALSCALE:GREGORIAN
METHOD:PUBLISH
X-ORIGINAL-URL:https://villageartsfactory.com
X-WR-CALDESC:Events for Village Arts Factory
REFRESH-INTERVAL;VALUE=DURATION:PT1H
X-Robots-Tag:noindex
X-PUBLISHED-TTL:PT1H
BEGIN:VTIMEZONE
TZID:America/Detroit
BEGIN:DAYLIGHT
TZOFFSETFROM:-0500
TZOFFSETTO:-0400
TZNAME:EDT
DTSTART:20250309T070000
END:DAYLIGHT
BEGIN:STANDARD
TZOFFSETFROM:-0400
TZOFFSETTO:-0500
TZNAME:EST
DTSTART:20251102T060000
END:STANDARD
BEGIN:DAYLIGHT
TZOFFSETFROM:-0500
TZOFFSETTO:-0400
TZNAME:EDT
DTSTART:20260308T070000
END:DAYLIGHT
BEGIN:STANDARD
TZOFFSETFROM:-0400
TZOFFSETTO:-0500
TZNAME:EST
DTSTART:20261101T060000
END:STANDARD
BEGIN:DAYLIGHT
TZOFFSETFROM:-0500
TZOFFSETTO:-0400
TZNAME:EDT
DTSTART:20270314T070000
END:DAYLIGHT
BEGIN:STANDARD
TZOFFSETFROM:-0400
TZOFFSETTO:-0500
TZNAME:EST
DTSTART:20271107T060000
END:STANDARD
END:VTIMEZONE
BEGIN:VEVENT
DTSTART;TZID=America/Detroit:20260801T100000
DTEND;TZID=America/Detroit:20260801T160000
DTSTAMP:20260423T170646
CREATED:20260414T140858Z
LAST-MODIFIED:20260414T142334Z
UID:3435-1785578400-1785600000@villageartsfactory.com
SUMMARY:Rooted Vision Photography: Back to School Mini Sessions
DESCRIPTION:Capture the excitement of a new school year with our Back to School Photo Special by Rooted Vision Photography! This limited-time mini session is the perfect way to preserve your child’s personality\, style\, and milestone moment as they head into a brand-new academic year. \nEach session includes a 10-minute professionally styled photoshoot in a charming\, school-themed setting designed to bring out warm\, timeless portraits. You’ll receive 3+ beautifully edited digital images\, along with a print release and access to a convenient online gallery for viewing and downloading your photos. \nWhether you’re commemorating a first day of kindergarten or another year of growth\, this quick and fun experience delivers high-quality images you’ll treasure for years to come. \nSession Details: \n\n10-minute mini session\n3+ edited digital images\nPrint release included\nOnline gallery access\n\nCost: $49 per session \nDates: Saturday\, August 1 & September 19 \nSpots are limited—reserve your session today and start the school year with memories that last a lifetime!
URL:https://villageartsfactory.com/event/rooted-vision-photography-back-to-school-mini-sessions/
LOCATION:Village Arts Factory\, 50755 Cherry Hill Rd\, Canton\, MI\, 48188\, United States
CATEGORIES:Public Events
ATTACH;FMTTYPE=image/jpeg:https://villageartsfactory.com/wp-content/uploads/2026/04/Rooted-Back-to-School-scaled.jpg
ORGANIZER;CN="Rooted Vision Photography":MAILTO:rootedvision@outlook.com
END:VEVENT
BEGIN:VEVENT
DTSTART;TZID=America/Detroit:20261010T100000
DTEND;TZID=America/Detroit:20261010T233000
DTSTAMP:20260423T170646
CREATED:20260331T181023Z
LAST-MODIFIED:20260331T181023Z
UID:3400-1791626400-1791675000@villageartsfactory.com
SUMMARY:Cherry Hill Village Art Walk
DESCRIPTION:Join us for a special series of quarterly Art Walks set in the picturesque charm of Cherry Hill Village—where art\, community\, and a little adventure come together. \nWe’ll begin our journey at the Village Theater\, where you’ll be welcomed with coffee and donuts as you take in the current exhibition at The Gallery at Cherry Hill (50400 Cherry Hill Road). From there\, we’ll enjoy a guided stroll to the Village Arts Factory (50755 Cherry Hill Road) for a behind-the-scenes look at this creative hub\, including a tour of the Arts Warehouse’s latest fine arts exhibition. \nIt’s the perfect way to spend a morning connecting with art\, meeting fellow art lovers\, and experiencing the vibrant creative energy of the community—all in a relaxed\, walkable setting. \nThese events are free and open to the public\, but pre-registration is required. \n2026 Art Walk DatesMay 9July 11October 10 \nCome take a walk with us—you never know what inspiration you’ll discover along the way. \nClick Here to Register! \nSpecial thanks to our generous coffee sponsor\, Wild Wolf Coffee\, for providing free coffee for participants! Wild Wolf Coffee is a local\, independent coffee roaster located at the Village Arts Factory in Canton\, Michigan.
URL:https://villageartsfactory.com/event/cherry-hill-village-art-walk-8/
LOCATION:Village Theater\, 50400 Cherry Hill Rd\, Canton\, MI\, 48188\, United States
CATEGORIES:Public Events
ATTACH;FMTTYPE=image/png:https://villageartsfactory.com/wp-content/uploads/2026/03/2026-Art-Walks-scaled.png
ORGANIZER;CN="Village Arts Factory":MAILTO:kevin.ryan@cantonmi.gov
END:VEVENT
END:VCALENDAR