BEGIN:VCALENDAR
VERSION:2.0
PRODID:-//Village Arts Factory - ECPv6.15.20//NONSGML v1.0//EN
CALSCALE:GREGORIAN
METHOD:PUBLISH
X-WR-CALNAME:Village Arts Factory
X-ORIGINAL-URL:https://villageartsfactory.com
X-WR-CALDESC:Events for Village Arts Factory
REFRESH-INTERVAL;VALUE=DURATION:PT1H
X-Robots-Tag:noindex
X-PUBLISHED-TTL:PT1H
BEGIN:VTIMEZONE
TZID:America/Detroit
BEGIN:DAYLIGHT
TZOFFSETFROM:-0500
TZOFFSETTO:-0400
TZNAME:EDT
DTSTART:20220313T070000
END:DAYLIGHT
BEGIN:STANDARD
TZOFFSETFROM:-0400
TZOFFSETTO:-0500
TZNAME:EST
DTSTART:20221106T060000
END:STANDARD
BEGIN:DAYLIGHT
TZOFFSETFROM:-0500
TZOFFSETTO:-0400
TZNAME:EDT
DTSTART:20230312T070000
END:DAYLIGHT
BEGIN:STANDARD
TZOFFSETFROM:-0400
TZOFFSETTO:-0500
TZNAME:EST
DTSTART:20231105T060000
END:STANDARD
BEGIN:DAYLIGHT
TZOFFSETFROM:-0500
TZOFFSETTO:-0400
TZNAME:EDT
DTSTART:20240310T070000
END:DAYLIGHT
BEGIN:STANDARD
TZOFFSETFROM:-0400
TZOFFSETTO:-0500
TZNAME:EST
DTSTART:20241103T060000
END:STANDARD
END:VTIMEZONE
BEGIN:VEVENT
DTSTART;TZID=America/Detroit:20230430T110000
DTEND;TZID=America/Detroit:20230430T160000
DTSTAMP:20260425T100857
CREATED:20230405T133008Z
LAST-MODIFIED:20230405T133022Z
UID:407-1682852400-1682870400@villageartsfactory.com
SUMMARY:Cherry Hill Potters Guild: Spring Pottery Sale
DESCRIPTION:Cherry Hill Potters Guild is excited to participate in the Village Art Factory’s event: Art in Bloom! Please join us for this spring-themed event featuring the Arts Warehouse studios\, as well as community artisans\, vendors\, live music\, and food trucks. The Art in Bloom hours are Saturday\, April 29\, 10:00-3:00. Spring Pottery Sale extended hours are Saturday\, April 29 10:00-6:00 and Sunday\, April 30 11:00-4:00. Stop by to purchase some beautiful pottery and ceramic art!
URL:https://villageartsfactory.com/event/cherry-hill-potters-guild-spring-pottery-sale-2/
LOCATION:Village Arts Factory\, 50755 Cherry Hill Rd\, Canton\, MI\, 48188\, United States
CATEGORIES:Public Events
ATTACH;FMTTYPE=image/jpeg:https://villageartsfactory.com/wp-content/uploads/2023/03/Potters-Guild-Art-in-Bloom.jpg
ORGANIZER;CN="Cherry Hill Potters Guild":MAILTO:cherryhillpotters@gmail.com
END:VEVENT
BEGIN:VEVENT
DTSTART;TZID=America/Detroit:20230429T100000
DTEND;TZID=America/Detroit:20230429T180000
DTSTAMP:20260425T100857
CREATED:20230330T134744Z
LAST-MODIFIED:20230405T133157Z
UID:286-1682762400-1682791200@villageartsfactory.com
SUMMARY:Cherry Hill Potters Guild: Spring Pottery Sale
DESCRIPTION:Cherry Hill Potters Guild is excited to participate in the Village Art Factory’s event: Art in Bloom! Please join us for this spring-themed event featuring the Arts Warehouse studios\, as well as community artisans\, vendors\, live music\, and food trucks. The Art in Bloom hours are Saturday\, April 29\, 10:00-3:00. Spring Pottery Sale extended hours are Saturday\, April 29 10:00-6:00 and Sunday\, April 30 11:00-4:00. Stop by to purchase some beautiful pottery and ceramic art!
URL:https://villageartsfactory.com/event/cherry-hill-potters-guild-spring-pottery-sale/
LOCATION:Village Arts Factory\, 50755 Cherry Hill Rd\, Canton\, MI\, 48188\, United States
CATEGORIES:Public Events
ATTACH;FMTTYPE=image/jpeg:https://villageartsfactory.com/wp-content/uploads/2023/03/Potters-Guild-Art-in-Bloom.jpg
ORGANIZER;CN="Cherry Hill Potters Guild":MAILTO:cherryhillpotters@gmail.com
END:VEVENT
BEGIN:VEVENT
DTSTART;TZID=America/Detroit:20230429T100000
DTEND;TZID=America/Detroit:20230429T150000
DTSTAMP:20260425T100857
CREATED:20230317T025852Z
LAST-MODIFIED:20230411T213718Z
UID:204-1682762400-1682780400@villageartsfactory.com
SUMMARY:Art in Bloom: Spring Festival
DESCRIPTION:Art in Bloom is just a few weeks away! Join us between 10am and 3pm on April 29th for our Spring Artisan Market\, featuring the Arts Warehouse studio tenants\, local craft artisans\, food trucks\, coffee\, live music\, and more! Come and celebrate all things spring while enjoying delicious food and browsing locally made goods. We hope to see you there!
URL:https://villageartsfactory.com/event/art-in-bloom-spring-festival/
LOCATION:Village Arts Factory\, 50755 Cherry Hill Rd\, Canton\, MI\, 48188\, United States
ATTACH;FMTTYPE=image/png:https://villageartsfactory.com/wp-content/uploads/2023/03/Art-in-Bloom-2023_FB-IG-FINAL.png
ORGANIZER;CN="Partnership for the Arts":MAILTO:admin@partnershipforarts.org
END:VEVENT
BEGIN:VEVENT
DTSTART;TZID=America/Detroit:20230421T180000
DTEND;TZID=America/Detroit:20230421T190000
DTSTAMP:20260425T100857
CREATED:20230330T211638Z
LAST-MODIFIED:20230330T211722Z
UID:332-1682100000-1682103600@villageartsfactory.com
SUMMARY:Bracelet-Making Class with Smokey Citrine
DESCRIPTION:Join Smokey Citrine at our monthly Jewelry and Lifestyle Art classes!\nIn these classes\, you’ll learn how to craft beautiful and unique pieces using natural gemstones. From jewelry to home decor\, you’ll have the opportunity to explore your creativity and learn new techniques that will help you create pieces that reflect your personal style.Whether you’re a beginner or an experienced crafter\, these classes are perfect for anyone looking to connect with nature and tap into their creative side. The relaxed and welcoming atmosphere makes it easy to learn and have fun\, and you’ll go home with a new sense of accomplishment and a beautiful\, handmade piece to show off. Register Today!
URL:https://villageartsfactory.com/event/bracelet-making-class-with-smokey-citrine/
LOCATION:Village Arts Factory\, 50755 Cherry Hill Rd\, Canton\, MI\, 48188\, United States
CATEGORIES:Public Events
ATTACH;FMTTYPE=image/jpeg:https://villageartsfactory.com/wp-content/uploads/2023/03/Smokey-Citrine-April-Class.jpg
END:VEVENT
BEGIN:VEVENT
DTSTART;TZID=America/Detroit:20230416T140000
DTEND;TZID=America/Detroit:20230416T150000
DTSTAMP:20260425T100857
CREATED:20230330T134012Z
LAST-MODIFIED:20230330T152222Z
UID:282-1681653600-1681657200@villageartsfactory.com
SUMMARY:A.C.E. Adaptive Craft Workshop: Blooms\, Bugs\, and Butterflies
DESCRIPTION:We are excited to announce our April Adaptive Craft Workshop on Sunday\, April 16 at 2:00 PM! This month\, we’ll be making watercolor blooms\, bugs\, and butterflies as we celebrate the start of spring. This one-hour workshop is suitable for children ages 5 to 12 who have special physical\, developmental\, or sensory processing needs. The cost to attend is only $10 per child and all materials are included. Parents are requested to stay during the course of the workshop. Space is limited to 20 children\, so register soon before this popular monthly workshop fills up! \nClick here to register today!
URL:https://villageartsfactory.com/event/a-c-e-adaptive-craft-workshop-blooms-bugs-and-butterflies/
LOCATION:Village Arts Factory\, 50755 Cherry Hill Rd\, Canton\, MI\, 48188\, United States
CATEGORIES:Public Events
ATTACH;FMTTYPE=image/jpeg:https://villageartsfactory.com/wp-content/uploads/2023/03/April-ACE-Workshop-TV.jpg
ORGANIZER;CN="Partnership for the Arts":MAILTO:admin@partnershipforarts.org
END:VEVENT
BEGIN:VEVENT
DTSTART;TZID=America/Detroit:20230331T183000
DTEND;TZID=America/Detroit:20230331T203000
DTSTAMP:20260425T100857
CREATED:20230316T205713Z
LAST-MODIFIED:20230316T205713Z
UID:190-1680287400-1680294600@villageartsfactory.com
SUMMARY:Members Only Paint & Pour
DESCRIPTION:
URL:https://villageartsfactory.com/event/members-only-paint-pour/
LOCATION:Village Arts Factory\, 50755 Cherry Hill Rd\, Canton\, MI\, 48188\, United States
ATTACH;FMTTYPE=image/png:https://villageartsfactory.com/wp-content/uploads/2023/01/VAF-Logo-Watercolor-Kevin-Ryan.png
ORGANIZER;CN="Partnership for the Arts":MAILTO:admin@partnershipforarts.org
END:VEVENT
BEGIN:VEVENT
DTSTART;TZID=America/Detroit:20230324T180000
DTEND;TZID=America/Detroit:20230324T190000
DTSTAMP:20260425T100857
CREATED:20230317T025551Z
LAST-MODIFIED:20230317T025551Z
UID:201-1679680800-1679684400@villageartsfactory.com
SUMMARY:Bracelet-Making Workshop with SmokeyCitrine
DESCRIPTION:
URL:https://villageartsfactory.com/event/bracelet-making-workshop-with-smokeycitrine/
LOCATION:Village Arts Factory\, 50755 Cherry Hill Rd\, Canton\, MI\, 48188\, United States
CATEGORIES:Public Events
END:VEVENT
END:VCALENDAR