BEGIN:VCALENDAR
VERSION:2.0
PRODID:-//Village Arts Factory - ECPv6.15.20//NONSGML v1.0//EN
CALSCALE:GREGORIAN
METHOD:PUBLISH
X-ORIGINAL-URL:https://villageartsfactory.com
X-WR-CALDESC:Events for Village Arts Factory
REFRESH-INTERVAL;VALUE=DURATION:PT1H
X-Robots-Tag:noindex
X-PUBLISHED-TTL:PT1H
BEGIN:VTIMEZONE
TZID:America/Detroit
BEGIN:DAYLIGHT
TZOFFSETFROM:-0500
TZOFFSETTO:-0400
TZNAME:EDT
DTSTART:20230312T070000
END:DAYLIGHT
BEGIN:STANDARD
TZOFFSETFROM:-0400
TZOFFSETTO:-0500
TZNAME:EST
DTSTART:20231105T060000
END:STANDARD
BEGIN:DAYLIGHT
TZOFFSETFROM:-0500
TZOFFSETTO:-0400
TZNAME:EDT
DTSTART:20240310T070000
END:DAYLIGHT
BEGIN:STANDARD
TZOFFSETFROM:-0400
TZOFFSETTO:-0500
TZNAME:EST
DTSTART:20241103T060000
END:STANDARD
BEGIN:DAYLIGHT
TZOFFSETFROM:-0500
TZOFFSETTO:-0400
TZNAME:EDT
DTSTART:20250309T070000
END:DAYLIGHT
BEGIN:STANDARD
TZOFFSETFROM:-0400
TZOFFSETTO:-0500
TZNAME:EST
DTSTART:20251102T060000
END:STANDARD
END:VTIMEZONE
BEGIN:VEVENT
DTSTART;TZID=America/Detroit:20240405T180000
DTEND;TZID=America/Detroit:20240405T200000
DTSTAMP:20260425T101422
CREATED:20240325T152350Z
LAST-MODIFIED:20240325T153756Z
UID:1701-1712340000-1712347200@villageartsfactory.com
SUMMARY:Martine MacDonald: Art Gallery Opening Reception
DESCRIPTION:Join us for the opening reception of “You Can Get There from Here: An Artist’s Pathway” featuring Martine MacDonald on Friday\, April 5 from 6 to 8pm. Stop by the Village Arts Factory to browse the artwork\, meet the artist\, and enjoy a variety of light refreshments.\n\nThis multi-medium exhibit will feature pieces inspired by literature\, mythology\, and the artist’s personal history. Martine invites you to join her as she reflects on her artistic pathway\, knowing that if you follow your instincts\, you too can get there from here on your own artistic journey.\n\nFor more information\, contact us at kevin.ryan@cantonmi.gov or visit villageartsfactory.com/artgallery
URL:https://villageartsfactory.com/event/martine-macdonald-art-gallery-opening-reception/
LOCATION:Village Arts Factory\, 50755 Cherry Hill Rd\, Canton\, MI\, 48188\, United States
CATEGORIES:Public Events
ATTACH;FMTTYPE=image/png:https://villageartsfactory.com/wp-content/uploads/2024/03/Martine-MacDonald-EVENT-COVER-2.0.png
ORGANIZER;CN="Village Arts Factory":MAILTO:kevin.ryan@cantonmi.gov
END:VEVENT
BEGIN:VEVENT
DTSTART;TZID=America/Detroit:20240407T100000
DTEND;TZID=America/Detroit:20240407T120000
DTSTAMP:20260425T101422
CREATED:20240222T161449Z
LAST-MODIFIED:20240222T161449Z
UID:1635-1712484000-1712491200@villageartsfactory.com
SUMMARY:Spring Doormat Craft Workshop
DESCRIPTION:Celebrate the return of sunshine and flowers with a fun Spring Doormat Craft Workshop at the Village Arts Factory! Join us on Sunday\, April 7 as we get into the creative spirit and create custom all-weather doormats. Select from one of four stencil designs and bring home a beautiful\, spring-themed doormat to grace your porch or mudroom. The cost is only $45 and includes all materials! The workshop begins at 10am and will run approximately one hour. You’ll be able to take your mat home with you that same day. All mats are the same standard size: 18”x 30”. This workshop is recommended for ages 16+ but a child may attend with their parent. Invite your friends and family and enjoy a fun morning out at the Village Arts Factory! \nClick here to register online!
URL:https://villageartsfactory.com/event/spring-doormat-craft-workshop/
LOCATION:Village Arts Factory\, 50755 Cherry Hill Rd\, Canton\, MI\, 48188\, United States
CATEGORIES:Public Events
ATTACH;FMTTYPE=image/png:https://villageartsfactory.com/wp-content/uploads/2024/02/Spring-Doormat-Workshop.png
ORGANIZER;CN="Village Arts Factory":MAILTO:kevin.ryan@cantonmi.gov
END:VEVENT
BEGIN:VEVENT
DTSTART;TZID=America/Detroit:20240413T140000
DTEND;TZID=America/Detroit:20240413T150000
DTSTAMP:20260425T101422
CREATED:20240319T174705Z
LAST-MODIFIED:20240319T174802Z
UID:1665-1713016800-1713020400@villageartsfactory.com
SUMMARY:A.C.E. Kids: April Adaptive Craft Workshop
DESCRIPTION:Join us on Saturday\, April 13th at 2:00 PM for our next Adaptive Craft Workshop for kids at the Village Arts Factory! This one-hour workshop will feature the creation of raindrop sun catchers and sensory bins. Recommended for children ages 5 to 12 with special physical\, developmental\, or sensory sensitivity considerations. Your kids will love celebrating the return of spring in a supportive\, sensory-friendly environment. The cost is only $10 per child and all materials are included. A parent or guardian must attend with child. For questions or more information\, contact Jessica Gallina at admin@partnershipforarts.org or by phone at 734-765-7061. \nSpecial thanks to the generous sponsors of our A.C.E. program: Eagles for Children\, Giving Hope\, and Canton Community Foundation.
URL:https://villageartsfactory.com/event/a-c-e-kids-april-adaptive-craft-workshop/
LOCATION:Village Arts Factory\, 50755 Cherry Hill Rd\, Canton\, MI\, 48188\, United States
CATEGORIES:A.C.E. Events,Public Events
ATTACH;FMTTYPE=image/png:https://villageartsfactory.com/wp-content/uploads/2024/03/ACE-Kids.png
ORGANIZER;CN="A.C.E. Program":MAILTO:admin@partnershipforarts.org
END:VEVENT
BEGIN:VEVENT
DTSTART;TZID=America/Detroit:20240413T150000
DTEND;TZID=America/Detroit:20240413T160000
DTSTAMP:20260425T101422
CREATED:20240319T175023Z
LAST-MODIFIED:20240319T175023Z
UID:1668-1713020400-1713024000@villageartsfactory.com
SUMMARY:A.C.E. Teen: April Adaptive Craft Workshop
DESCRIPTION:We’re excited to celebrate the return of spring at our April Adaptive Craft Workshop for teens! Join us on Saturday\, April 13th at 3:00pm for a fun afternoon of creating raindrop sun catchers and getting hands on with a shaving cream cloud experiment. Our certified therapeutic recreation staff will be on site to ensure that your teen enjoys a safe\, supportive\, and sensory-friendly environment. This program is recommended for teenagers between the ages of 13 and 17 with special physical\, development\, or sensory sensitivity considerations. Craft activities will be adapted to provide an inclusive experience. The cost is $10 per teen and space is limited to 20. Parents may attend but are not required to stay. For more information\, contact us at admin@partnershipforarts.org. \nThis A.C.E. program is generously sponsored by our partners at Canton Community Foundation\, Women’s Giving Circle\, and Eagles for Children.
URL:https://villageartsfactory.com/event/a-c-e-teen-april-adaptive-craft-workshop/
LOCATION:Village Arts Factory\, 50755 Cherry Hill Rd\, Canton\, MI\, 48188\, United States
CATEGORIES:A.C.E. Events,Public Events
ATTACH;FMTTYPE=image/png:https://villageartsfactory.com/wp-content/uploads/2024/03/ACE-Teen.png
ORGANIZER;CN="A.C.E. Program":MAILTO:admin@partnershipforarts.org
END:VEVENT
BEGIN:VEVENT
DTSTART;TZID=America/Detroit:20240420T100000
DTEND;TZID=America/Detroit:20240420T113000
DTSTAMP:20260425T101422
CREATED:20240411T181916Z
LAST-MODIFIED:20240412T175113Z
UID:1750-1713607200-1713612600@villageartsfactory.com
SUMMARY:Cherry Hill Village Art Walk
DESCRIPTION:Join us for these special Art Walks that will be held quarterly in beautiful Cherry Hill Village. \nWe’ll meet at The Village Theater where we’ll enjoy donuts and coffee and view the current exhibit at the Gallery at Cherry Hill\, located at 50400 Cherry Hill Road.  Next\, we’ll head to the Village Arts Factory for a short tour where we’ll end our walk enjoying their Fine Arts Gallery’s latest exhibition. \nThese events are FREE and open to the public.  Pre-registration is required. \nAdditional Art Walk dates are July 20 & October 5 \nFor additional information or to register over the phone\, please contact jennifer.collins@cantonmi.gov or call 734/394-5374
URL:https://villageartsfactory.com/event/cherry-hill-village-art-walk/
LOCATION:Cherry Hill Village\, Canton\, MI\, 48188\, United States
CATEGORIES:Public Events
ATTACH;FMTTYPE=image/png:https://villageartsfactory.com/wp-content/uploads/2024/04/Art-Walks-1.png
END:VEVENT
BEGIN:VEVENT
DTSTART;TZID=America/Detroit:20240427T100000
DTEND;TZID=America/Detroit:20240427T170000
DTSTAMP:20260425T101422
CREATED:20240131T173527Z
LAST-MODIFIED:20240425T164102Z
UID:1573-1714212000-1714237200@villageartsfactory.com
SUMMARY:Art in Bloom: Spring Artisan Market
DESCRIPTION:Save the date for the return of Art in Bloom at the Village Arts Factory! Our annual spring artisan market features a wide variety of craft and artisan vendors\, food trucks\, live music\, kids activities\, and more. Bring the whole family and make it a fun day of celebrating all things spring! We are currently accepting online interest forms from prospective food\, artisan\, craft\, and concessions vendors. Click here to fill out and submit your form online! Event Details: Date: Saturday\, April 27\, 2024 Time: 10am to 5pm Location: Village Arts Factory\, 50755 Cherry Hill Rd.\, Canton\, MI 48188 Cost: Free to attend! \n \nArt in Bloom is presented by Raman Pharmacy of Cherry Hill Village and generously supported by Jacob Matthew Jewelers and IHA Medical Group Nurse Midwives.
URL:https://villageartsfactory.com/event/art-in-bloom-spring-artisan-market/
LOCATION:Village Arts Factory\, 50755 Cherry Hill Rd\, Canton\, MI\, 48188\, United States
CATEGORIES:Public Events
ATTACH;FMTTYPE=image/jpeg:https://villageartsfactory.com/wp-content/uploads/2024/01/Art-in-Bloom-TV.jpg
ORGANIZER;CN="Village Arts Factory":MAILTO:kevin.ryan@cantonmi.gov
END:VEVENT
BEGIN:VEVENT
DTSTART;TZID=America/Detroit:20240430T180000
DTEND;TZID=America/Detroit:20240430T200000
DTSTAMP:20260425T101422
CREATED:20240131T185554Z
LAST-MODIFIED:20240131T185623Z
UID:1578-1714500000-1714507200@villageartsfactory.com
SUMMARY:Glass Fusion Workshop: Spring Flowers Night Light/Sun Catcher
DESCRIPTION:We’ve partnered with Kiss My Glass to offer this fun and unique glass fusion workshop at the Village Arts Factory! Please join us on April 30th to create this beautiful spring flower design. The cost is just $35 per person. \nChoose between making a night light or sun catcher; approx. size 3.25 – 4″ \nNo experience necessary and all materials will be provided. Let our fused glass instructor show you how easy it is to cut and design something beautiful with glass. This class is also appropriate for children age 10+ who are accompanied by a paid adult who will cut the glass for them. (Due to limited seating\, you will need to purchase 2 registrations.) \nYou will create your design by using a special tac glue as an adhesive and all projects will go home with the instructor to be kiln fired and assembled and delivered back to the center in about 10 days. An email will be sent out when ready for pickup. \nPlease let your friends and family know about the fun! \nCancellation Policy: Registrations may be cancelled and refunded up to 7 days before the date of the workshop. Due to the nature of this workshop and the need to purchase materials and supplies in advance\, we cannot offer refunds within 7 days of the workshop date. You may transfer your registration to someone else or receive a teacher-made finished project instead.
URL:https://villageartsfactory.com/event/glass-fusion-workshop-spring-flowers-night-light-sun-catcher/
LOCATION:Village Arts Factory\, 50755 Cherry Hill Rd\, Canton\, MI\, 48188\, United States
CATEGORIES:Public Events
ATTACH;FMTTYPE=image/jpeg:https://villageartsfactory.com/wp-content/uploads/2024/01/SuncatcherCollage-Copy-2-scaled.jpg
ORGANIZER;CN="Kiss My Glass":MAILTO:kissmyglassart@yahoo.com
END:VEVENT
END:VCALENDAR