BEGIN:VCALENDAR
VERSION:2.0
PRODID:-//Village Arts Factory - ECPv6.15.20//NONSGML v1.0//EN
CALSCALE:GREGORIAN
METHOD:PUBLISH
X-WR-CALNAME:Village Arts Factory
X-ORIGINAL-URL:https://villageartsfactory.com
X-WR-CALDESC:Events for Village Arts Factory
REFRESH-INTERVAL;VALUE=DURATION:PT1H
X-Robots-Tag:noindex
X-PUBLISHED-TTL:PT1H
BEGIN:VTIMEZONE
TZID:America/Detroit
BEGIN:DAYLIGHT
TZOFFSETFROM:-0500
TZOFFSETTO:-0400
TZNAME:EDT
DTSTART:20230312T070000
END:DAYLIGHT
BEGIN:STANDARD
TZOFFSETFROM:-0400
TZOFFSETTO:-0500
TZNAME:EST
DTSTART:20231105T060000
END:STANDARD
BEGIN:DAYLIGHT
TZOFFSETFROM:-0500
TZOFFSETTO:-0400
TZNAME:EDT
DTSTART:20240310T070000
END:DAYLIGHT
BEGIN:STANDARD
TZOFFSETFROM:-0400
TZOFFSETTO:-0500
TZNAME:EST
DTSTART:20241103T060000
END:STANDARD
BEGIN:DAYLIGHT
TZOFFSETFROM:-0500
TZOFFSETTO:-0400
TZNAME:EDT
DTSTART:20250309T070000
END:DAYLIGHT
BEGIN:STANDARD
TZOFFSETFROM:-0400
TZOFFSETTO:-0500
TZNAME:EST
DTSTART:20251102T060000
END:STANDARD
END:VTIMEZONE
BEGIN:VEVENT
DTSTART;TZID=America/Detroit:20240505T100000
DTEND;TZID=America/Detroit:20240505T120000
DTSTAMP:20260425T085155
CREATED:20240415T200227Z
LAST-MODIFIED:20240415T200227Z
UID:1760-1714903200-1714910400@villageartsfactory.com
SUMMARY:Spring Doormat Craft Workshop
DESCRIPTION:Celebrate the return of sunshine and flowers with a fun Spring Doormat Craft Workshop at the Village Arts Factory! Join us on Sunday\, May 5 as we get into the creative spirit and create custom all-weather doormats. Select from one of four stencil designs and bring home a beautiful\, spring-themed doormat to grace your porch or mudroom. The cost is only $45 and includes all materials! The workshop begins at 10am and will run approximately one hour. You’ll be able to take your mat home with you that same day. All mats are the same standard size: 18”x 30”. This workshop is recommended for ages 16+ but a child may attend with their parent. Invite your friends and family and enjoy a fun morning out at the Village Arts Factory!
URL:https://villageartsfactory.com/event/spring-doormat-craft-workshop-2/
LOCATION:Village Arts Factory\, 50755 Cherry Hill Rd\, Canton\, MI\, 48188\, United States
CATEGORIES:Public Events
ATTACH;FMTTYPE=image/png:https://villageartsfactory.com/wp-content/uploads/2024/04/Spring-Doormat-Workshop-Reschedule.png
ORGANIZER;CN="Village Arts Factory":MAILTO:kevin.ryan@cantonmi.gov
END:VEVENT
BEGIN:VEVENT
DTSTART;TZID=America/Detroit:20240508T180000
DTEND;TZID=America/Detroit:20240508T200000
DTSTAMP:20260425T085155
CREATED:20240411T184003Z
LAST-MODIFIED:20240411T184003Z
UID:1753-1715191200-1715198400@villageartsfactory.com
SUMMARY:Rick Goff: Artist's Reception & Gallery Open House
DESCRIPTION:Join us for the Gallery Open House and Artist’s Reception of Images of Spring (Mostly) on Wednesday\, May 8 at the Village Arts Factory from 6 to 8pm. Browse the artwork\, meet the artist\, and enjoy a variety of light refreshments. This event is free to attend and open to the public. \nRichard Goff has been painting for more than 40 years. This exhibit features a range of his work\, subject matter\, and representational style. The paintings are rendered in bright hues of gouache applied over a background of India ink on watercolor paper. Goff is a signature artist of the Virginia Watercolor Society\, a juried member of Potomac Valley Watercolorists\, a board member of the Michigan Watercolor Society\, and a University of Michigan alum. He is retired following a long career in municipal government\, lives in Ann Arbor\, and participates in the Sunday Artisan Market at Kerrytown Market & Shops.
URL:https://villageartsfactory.com/event/rick-goff-artists-reception-gallery-open-house/
LOCATION:Village Arts Factory\, 50755 Cherry Hill Rd\, Canton\, MI\, 48188\, United States
CATEGORIES:Public Events
ATTACH;FMTTYPE=image/png:https://villageartsfactory.com/wp-content/uploads/2024/04/Goff-Postcard-Front.png
ORGANIZER;CN="Village Arts Factory":MAILTO:kevin.ryan@cantonmi.gov
END:VEVENT
BEGIN:VEVENT
DTSTART;TZID=America/Detroit:20240518T090000
DTEND;TZID=America/Detroit:20240518T140000
DTSTAMP:20260425T085155
CREATED:20240327T163915Z
LAST-MODIFIED:20240327T163915Z
UID:1706-1716022800-1716040800@villageartsfactory.com
SUMMARY:Spring Planting & Cleanup Day
DESCRIPTION:Join us for a day of community spirit and green-thumb fun at the Annual Spring Planting & Cleanup Day! Held at the scenic Village Arts Factory in Canton\, Michigan\, this event promises a rewarding opportunity to contribute to the beautification of our shared space. \nActivities include: \n\nPlanting flowers and refreshing mulch to enhance the surroundings.\nTidying up the garden beds and landscaping for a fresh\, inviting look.\nGeneral outdoor cleanup to ensure the Village Arts Factory remains a welcoming hub for creativity and connection.\n\nWhat to Bring:\nVolunteers are encouraged to bring work gloves\, water bottles\, and any gardening equipment they may have. \nPerks:\nBagels\, coffee\, and snacks will be provided to keep you fueled throughout the day! \nWhy Volunteer? \n\nMake a tangible difference in our community’s aesthetics and atmosphere.\nConnect with fellow residents who share a passion for gardening and community involvement.\nEnjoy the satisfaction of contributing to a greener\, more vibrant environment.\n\nCome one\, come all\, and let’s make this spring a season to remember at the Village Arts Factory! Your efforts will leave a lasting impact on our beloved community. Mark your calendars for May 18th and let’s get ready to dig in! \nFor more information or to RSVP\, visit the registration site listed below\, or contact Jessica at admin@partnershipforarts.org or by phone at (734) 765-7061.
URL:https://villageartsfactory.com/event/spring-planting-cleanup-day/
LOCATION:Village Arts Factory\, 50755 Cherry Hill Rd\, Canton\, MI\, 48188\, United States
ATTACH;FMTTYPE=image/png:https://villageartsfactory.com/wp-content/uploads/2024/03/Spring-Cleanup-2024-1920-x-1080-px.png
ORGANIZER;CN="Village Arts Factory":MAILTO:kevin.ryan@cantonmi.gov
END:VEVENT
BEGIN:VEVENT
DTSTART;TZID=America/Detroit:20240518T140000
DTEND;TZID=America/Detroit:20240518T150000
DTSTAMP:20260425T085155
CREATED:20240418T203046Z
LAST-MODIFIED:20240509T193947Z
UID:1772-1716040800-1716044400@villageartsfactory.com
SUMMARY:A.C.E. Kids: May Adaptive Craft Workshop
DESCRIPTION:Join us on Saturday\, May 18th at 2:00 PM for our next Adaptive Craft Workshop for kids at the Village Arts Factory! During this one-hour workshop we’ll create beautiful bouquets of flowers using colored paper\, coffee filters\, markers\, and more! Recommended for children ages 5 to 12 with special physical\, developmental\, or sensory sensitivity considerations. Your kids will love celebrating the return of spring in a supportive\, sensory-friendly environment. The cost is only $10 per child and all materials are included. A parent or guardian must attend with child. For questions or more information\, contact Jessica Gallina at admin@partnershipforarts.org or by phone at 734-765-7061. \nSpecial thanks to the generous sponsors of our A.C.E. Program: Eagles for Children\, Giving Hope\, and Canton Community Foundation.
URL:https://villageartsfactory.com/event/a-c-e-kids-may-adaptive-craft-workshop/
LOCATION:Village Arts Factory\, 50755 Cherry Hill Rd\, Canton\, MI\, 48188\, United States
CATEGORIES:A.C.E. Events,Public Events
ATTACH;FMTTYPE=image/png:https://villageartsfactory.com/wp-content/uploads/2024/04/ACE-Kids-May-18-2024-16x9-1.png
ORGANIZER;CN="A.C.E. Program":MAILTO:admin@partnershipforarts.org
END:VEVENT
BEGIN:VEVENT
DTSTART;TZID=America/Detroit:20240518T150000
DTEND;TZID=America/Detroit:20240518T160000
DTSTAMP:20260425T085155
CREATED:20240423T180439Z
LAST-MODIFIED:20240509T213055Z
UID:1779-1716044400-1716048000@villageartsfactory.com
SUMMARY:Adaptive Teen Origani Workshop
DESCRIPTION:We’re excited to celebrate the return of spring with an Adaptive Origami Workshop for teens! The art of folding paper\, known as origami\, has been celebrated and enjoyed for over 1\,000 years. Join us on Saturday\, May 18th at 3:00pm for a fun afternoon of learning how to create beautiful origami flowers. Our certified therapeutic recreation staff will be on site to ensure that your teen enjoys a safe\, supportive\, and sensory-friendly environment. This program is recommended for teenagers between the ages of 13 and 17 with special physical\, development\, or sensory sensitivity considerations. Craft activities will be adapted to provide an inclusive experience. The cost is $10 per teen and space is limited to 20. Parents may attend but are not required to stay. For more information\, contact us at admin@partnershipforarts.org. \nThis A.C.E. program is generously sponsored by our partners at Canton Community Foundation\, Women’s Giving Circle\, and Eagles for Children.
URL:https://villageartsfactory.com/event/adaptive-teen-origani-workshop/
LOCATION:Village Arts Factory\, 50755 Cherry Hill Rd\, Canton\, MI\, 48188\, United States
CATEGORIES:A.C.E. Events,Public Events
ATTACH;FMTTYPE=image/png:https://villageartsfactory.com/wp-content/uploads/2024/04/May-18-ACE-Teen-Origami-1920-x-1080-px.png
ORGANIZER;CN="A.C.E. Program":MAILTO:admin@partnershipforarts.org
END:VEVENT
BEGIN:VEVENT
DTSTART;TZID=America/Detroit:20240522T190000
DTEND;TZID=America/Detroit:20240522T200000
DTSTAMP:20260425T085155
CREATED:20240412T142103Z
LAST-MODIFIED:20240412T142103Z
UID:1756-1716404400-1716408000@villageartsfactory.com
SUMMARY:Adult Fitness Pop-Up: Barre
DESCRIPTION:Join us for a 1-hour Barre fitness class followed by an afterglow with refreshments at the Village Arts Factory in Cherry Hill Village! Barre is a low-impact\, high-intensity workout that combines ballet\, Pilates\, and yoga. It’s a great way to tone your muscles\, improve your flexibility\, and burn calories. No previous experience necessary and all fitness levels welcome! If you’ve ever been curious to try Barre\, this is the perfect opportunity to sample this fun and unique fitness medium. \nFollowing the Barre class\, our afterglow will include light refreshments such as fruit and nuts\, cheese and crackers\, wine\, and water. There will also be time to socialize\, connect with other attendees\, and explore the art gallery at the Village Arts Factory. For questions or more information\, contact Kevin Ryan at kevin.ryan@cantonmi.gov. \nWhat to Wear: \nComfortable workout clothes \nWhat to Bring: \nWater bottle\nTowel\nA positive attitude! \nEvent Schedule: \n7pm — Barre Fitness Class at the Village Arts Factory led by certified instructors from Personal Pilates & Fitness studio. Participants are encouraged to wear comfortable clothes and athletic shoes. All fitness mats and Barre equipment will be provided. All fitness levels welcome. \n8pm — Following the 1-hour Barre Fitness Class there will be an afterglow for participants with light refreshments. Participants are welcome to take a walk through the Fine Art Gallery or explore the beautiful Arts Warehouse studios.
URL:https://villageartsfactory.com/event/adult-fitness-pop-up-barre-3/
LOCATION:Village Arts Factory\, 50755 Cherry Hill Rd\, Canton\, MI\, 48188\, United States
CATEGORIES:Private Events
ATTACH;FMTTYPE=image/png:https://villageartsfactory.com/wp-content/uploads/2024/04/Barre-May-22.png
END:VEVENT
BEGIN:VEVENT
DTSTART;TZID=America/Detroit:20240529T180000
DTEND;TZID=America/Detroit:20240529T200000
DTSTAMP:20260425T085155
CREATED:20240131T192506Z
LAST-MODIFIED:20240131T202832Z
UID:1582-1717005600-1717012800@villageartsfactory.com
SUMMARY:Glass Fusion Workshop: "Bee" Kind Beehive Wind Chime
DESCRIPTION:We’ve partnered with Kiss My Glass to offer this fun and unique glass fusion workshop at the Village Arts Factory! Please join us on May 29th to create this adorable beehive wind chime; approx. size 4″. The cost is just $42 per person. \nNo experience necessary and all materials will be provided. Let our fused glass instructor show you how easy it is to cut and design something beautiful with glass. This class is also appropriate for children age 10+ who are accompanied by a paid adult who will cut the glass for them. (Due to limited seating\, you will need to purchase 2 registrations.) \nYou will create your design by using a special tac glue as an adhesive and all projects will go home with the instructor to be kiln fired and assembled and delivered back to the center in about 10 days. An email will be sent out when ready for pickup. \nPlease let your friends and family know about the fun! \nCancellation Policy: Registrations may be cancelled and refunded up to 7 days before the date of the workshop. Due to the nature of this workshop and the need to purchase materials and supplies in advance\, we cannot offer refunds within 7 days of the workshop date. You may transfer your registration to someone else or receive a teacher-made finished project instead.
URL:https://villageartsfactory.com/event/glass-fusion-workshop-bee-kind-beehive-wind-chime/
LOCATION:Village Arts Factory\, 50755 Cherry Hill Rd\, Canton\, MI\, 48188\, United States
CATEGORIES:Public Events
ATTACH;FMTTYPE=image/jpeg:https://villageartsfactory.com/wp-content/uploads/2024/01/Beehive.jpg
ORGANIZER;CN="Kiss My Glass":MAILTO:kissmyglassart@yahoo.com
END:VEVENT
END:VCALENDAR