BEGIN:VCALENDAR
VERSION:2.0
PRODID:-//Village Arts Factory - ECPv6.15.20//NONSGML v1.0//EN
CALSCALE:GREGORIAN
METHOD:PUBLISH
X-WR-CALNAME:Village Arts Factory
X-ORIGINAL-URL:https://villageartsfactory.com
X-WR-CALDESC:Events for Village Arts Factory
REFRESH-INTERVAL;VALUE=DURATION:PT1H
X-Robots-Tag:noindex
X-PUBLISHED-TTL:PT1H
BEGIN:VTIMEZONE
TZID:America/Detroit
BEGIN:DAYLIGHT
TZOFFSETFROM:-0500
TZOFFSETTO:-0400
TZNAME:EDT
DTSTART:20240310T070000
END:DAYLIGHT
BEGIN:STANDARD
TZOFFSETFROM:-0400
TZOFFSETTO:-0500
TZNAME:EST
DTSTART:20241103T060000
END:STANDARD
BEGIN:DAYLIGHT
TZOFFSETFROM:-0500
TZOFFSETTO:-0400
TZNAME:EDT
DTSTART:20250309T070000
END:DAYLIGHT
BEGIN:STANDARD
TZOFFSETFROM:-0400
TZOFFSETTO:-0500
TZNAME:EST
DTSTART:20251102T060000
END:STANDARD
BEGIN:DAYLIGHT
TZOFFSETFROM:-0500
TZOFFSETTO:-0400
TZNAME:EDT
DTSTART:20260308T070000
END:DAYLIGHT
BEGIN:STANDARD
TZOFFSETFROM:-0400
TZOFFSETTO:-0500
TZNAME:EST
DTSTART:20261101T060000
END:STANDARD
END:VTIMEZONE
BEGIN:VEVENT
DTSTART;TZID=America/Detroit:20250905T090000
DTEND;TZID=America/Detroit:20250905T150000
DTSTAMP:20260424T104009
CREATED:20250512T145602Z
LAST-MODIFIED:20250616T154010Z
UID:2596-1757062800-1757084400@villageartsfactory.com
SUMMARY:Scramble for the Arts Golf Outing
DESCRIPTION:The Partnership for the Arts & Humanities is excited to announce the return of the Scramble for the Arts Golf Outing\, presented by Mans Lumber & Home! Join us on Friday\, September 5 for another fun day of golf at beautiful Pheasant Run Golf Club while supporting the arts and humanities in our community! The cost is $150 per golfer and includes a light breakfast\, lunch at the turn\, snacks\, and a delicious catered dinner on the green. There will be a variety of fun games on the course and the opportunity for the top teams to win prizes. Register yourself or your full team. For questions or to discuss sponsorship opportunities\, contact Joe Mullally at (734) 255-9834 or by email at jcmullally@comcast.net. We hope to see you there!
URL:https://villageartsfactory.com/event/scramble-for-the-arts-golf-outing/
LOCATION:Pheasant Run Golf Club\, 46500 Summit Pkwy\, Canton\, MI\, 48188
CATEGORIES:Public Events
ATTACH;FMTTYPE=image/png:https://villageartsfactory.com/wp-content/uploads/2025/05/2205-UPDATED-PAH-Golf-Outing-Event-Banner.png
ORGANIZER;CN="Village Arts Factory":MAILTO:kevin.ryan@cantonmi.gov
END:VEVENT
BEGIN:VEVENT
DTSTART;TZID=America/Detroit:20250905T180000
DTEND;TZID=America/Detroit:20250905T200000
DTSTAMP:20260424T104009
CREATED:20250819T153717Z
LAST-MODIFIED:20250819T153717Z
UID:2921-1757095200-1757102400@villageartsfactory.com
SUMMARY:Art Exhibit Opening Reception: The Magic of Trees
DESCRIPTION:The Village Arts Factory proudly presents The Magic of Trees\, a captivating art exhibit featuring the works of Elena Adam (Dearborn\, MI)\, Sylvia Bandyke (Royal Oak\, MI)\, and Sharlene Welton (Canton\, MI). Though each artist works in a different medium—colored pencil\, acrylics\, mixed media\, photography\, and collage—their artistic journeys intertwine around one shared subject: the mystery\, resilience\, and beauty of trees. \nFor Elena Adam\, trees are living magicians\, quietly shaping the world around us. Her vibrant works in acrylics and colored pencil reflect their silent strength and dreamlike presence\, inviting viewers to see trees as guardians and storytellers. \nSylvia Bandyke\, a photographer and collage artist\, finds in trees a symbol of continuity and healing. With roots reaching deep into the earth and branches stretching skyward\, trees remind us of balance\, grounding\, and endurance. Her pieces often layer stories and perspectives\, offering viewers a thoughtful and layered visual experience. \nFor Sharlene Welton\, trees are deeply personal—symbols of memory\, nurture\, and growth rooted in her family’s traditions and childhood. Through her acrylic and mixed media work\, she explores trees as protectors and givers\, their presence tied to both tender and bittersweet stories that connect people\, place\, and time. \nTogether\, these three artists—longtime friends and collaborators through the Dearborn Art Club—have created an exhibit that reflects not only their individual voices but also the bond between them. Their combined works celebrate the magnificence of trees: their mystery\, their magic\, their strength\, and their enduring presence in our lives. To mark the opening of this special exhibition\, the Village Arts Factory invites the community to attend an opening reception on Friday\, September 5\, from 6:00–8:00 PM\, where guests will have the opportunity to explore the artwork\, meet the artists\, and enjoy tasty bites and refreshments in a warm and welcoming setting. \nThe Magic of Trees will remain on public exhibit at the Village Arts Factory through Sunday\, September 28. Gallery hours are Monday through Saturday\, 9:00 AM to 7:00 PM\, or by special appointment. Admission is free.
URL:https://villageartsfactory.com/event/art-exhibit-opening-reception-the-magic-of-trees/
LOCATION:Village Arts Factory\, 50755 Cherry Hill Rd\, Canton\, MI\, 48188\, United States
CATEGORIES:Public Events
ATTACH;FMTTYPE=image/png:https://villageartsfactory.com/wp-content/uploads/2025/08/Magic-of-Trees-Banner.png
ORGANIZER;CN="Village Arts Factory":MAILTO:kevin.ryan@cantonmi.gov
END:VEVENT
BEGIN:VEVENT
DTSTART;TZID=America/Detroit:20250912T183000
DTEND;TZID=America/Detroit:20250912T213000
DTSTAMP:20260424T104009
CREATED:20250829T212228Z
LAST-MODIFIED:20250829T212228Z
UID:2945-1757701800-1757712600@villageartsfactory.com
SUMMARY:Outdoor Cultural Movie Night in Cherry Hill Village
DESCRIPTION:Join us for the return of our Outdoor Cultural Movie Night in Cherry Hill Village! Sponsored by Oak Pointe Church Canton\, guests will enjoy a beautiful evening under the stars celebrating Scottish Highlands Cultural Heritage with kids crafts\, lawn games\, pre-show entertainment\, and a free showing of Disney Pixar’s animated film Brave (Rated-PG). Bring folding chairs\, a picnic blanket\, and your favorite snacks! Guests may arrive anytime after 6:30pm; please note that the film will not begin until sunset\, approximately 7:45pm. \nEvent Timeline: \n6:30pm — Doors Open // Kids Crafts // Lawn Games7:00pm — Pre-Show Cultural Visit from Merida7:45pm — Showing of Disney Pixar’s Brave (Rated-PG) \nEvent Location: \nCherry Hill Schoolhouse Lawn50440 Cherry Hill RdCanton\, MI 48187
URL:https://villageartsfactory.com/event/outdoor-cultural-movie-night-in-cherry-hill-village-2/
LOCATION:Cherry Hill Schoolhouse\, 50440 Cherry Hill Rd\, Canton\, MI\, 48187
CATEGORIES:Public Events
ATTACH;FMTTYPE=image/jpeg:https://villageartsfactory.com/wp-content/uploads/2025/08/540269489_1384931826967222_8003751449072561125_n.jpg
ORGANIZER;CN="Village Arts Factory":MAILTO:kevin.ryan@cantonmi.gov
END:VEVENT
BEGIN:VEVENT
DTSTART;TZID=America/Detroit:20250913T180000
DTEND;TZID=America/Detroit:20250913T210000
DTSTAMP:20260424T104009
CREATED:20250730T035544Z
LAST-MODIFIED:20250730T035544Z
UID:2884-1757786400-1757797200@villageartsfactory.com
SUMMARY:Canton's 16th Annual Brews\, Brats\, and Bands
DESCRIPTION:Since 2010\, Brew\, Brats and Bands has been a popular\, annual tradition in Canton\, Michigan! The 21+ crowd is invited to join us for this fun community event\, located at the Heritage Park Amphitheater. Proceeds from this event will benefit the Village Arts Factory\, which provices innovative\, equitable community arts programs for all to enjoy. The Canton Cares Fund will also be hosting their annual Chili Cook-Off Contest during the event! \nYour tickets include: 7 tastings of local craft brews\, ciders\, and seltzers\, 2 grilled brats (vegetarian option available) with fixings\, pretzel necklace-making station\, water\, chili cook-off tastings\, commemorative keepsake mug\, and live music by Atomic Radio. Limited chairs and tables will be provided\, so folding chairs are strongly encouraged! Additional beer-tasting tickets can be purchased on-site during the event. \nGeneral admission tickets are $45 per person. Designated Driver tickets (no alcohol) are $15 each. All attendees MUST present a valid\, photo I.D. for entry. There are no exceptions. Space is limited\, so we strongly encourage all attendees to purchase their tickets in advance; we cannot guarantee tickets will be available the day of the event! \nThis event is generously sponsored by: Sweetwaters Coffee & Tea Canton\, Merrill Mueting Lyczak Group\, Provision Senior Living Community\, Schoolcraft College
URL:https://villageartsfactory.com/event/cantons-16th-annual-brews-brats-and-bands/
LOCATION:Heritage Park\, 1150 S Canton Center Rd\, Canton\, MI\, 48188\, United States
CATEGORIES:Public Events
ATTACH;FMTTYPE=image/jpeg:https://villageartsfactory.com/wp-content/uploads/2025/07/Brews-Brats-Bands-2025-FB-Header_--scaled.jpg
ORGANIZER;CN="Village Arts Factory":MAILTO:kevin.ryan@cantonmi.gov
END:VEVENT
BEGIN:VEVENT
DTSTART;TZID=America/Detroit:20250924T181500
DTEND;TZID=America/Detroit:20250924T211500
DTSTAMP:20260424T104009
CREATED:20250717T191552Z
LAST-MODIFIED:20250717T191552Z
UID:2827-1758737700-1758748500@villageartsfactory.com
SUMMARY:Glass Fusion Workshop: Glorious Greenhouses
DESCRIPTION:Come join us at the Village Arts Factory to create your own dream greenhouse at our September Glass Fusion Workshop! It’s the perfect opportunity to spend a relaxing evening crafting and enjoying the unique experience of working with colored glass. \nThe cost is $53 per person and includes 3-hours of instruction. All materials will be provided and no previous experience is needed. The instructor will guide you through cutting and assembling the glass to make your dream greenhouse come true! Finished pieces will be approximately 6-7″ in size. \nThis glass workshop is appropriate for adults of all ages and skill levels. On a scale of 1 to 10\, this class difficulty is a 6; a little above average and enjoyably challenging\, requiring concentration but not a lot of excessive cutting. The base house-shaped piece will already be cut for you prior to class. You will create your unique design by using a special tac glue as an adhesive. All projects will go home with the instructor to be kiln fired and will be delivered back to the Village Arts Factory in approximately 10-12 days. An email will be sent out to participants with pick-up instructions. \nPlease note: closed-toed shoes and covered drink containers are required. Sorry\, no snacks allowed. Food and glass do not mix! Please let your friends and family know about the fun! Our instructor is Laurie with Kiss My Glass. \nPlease note: Due to the need to purchase class supplies in advance\, there are no refunds for this class within 5 days of the event. If an emergency arises\, you may send someone else in your place. \nClick Here to Sign Up!
URL:https://villageartsfactory.com/event/glass-fusion-workshop-glorious-greenhouses/
LOCATION:Village Arts Factory\, 50755 Cherry Hill Rd\, Canton\, MI\, 48188\, United States
CATEGORIES:Public Events
ATTACH;FMTTYPE=image/png:https://villageartsfactory.com/wp-content/uploads/2025/07/GreenhouseCollage-1.png
ORGANIZER;CN="Kiss My Glass":MAILTO:kissmyglassart@yahoo.com
END:VEVENT
BEGIN:VEVENT
DTSTART;TZID=America/Detroit:20250927T120000
DTEND;TZID=America/Detroit:20250927T180000
DTSTAMP:20260424T104009
CREATED:20250730T035138Z
LAST-MODIFIED:20250923T143751Z
UID:2881-1758974400-1758996000@villageartsfactory.com
SUMMARY:ARToberfest: Family Fall Festival
DESCRIPTION:Celebrate Michigan’s beautiful fall season at Canton’s annual ARToberfest Family Fall Festival—a fun-filled day of creativity\, community\, and autumn magic in the heart of Cherry Hill Village! \nThis beloved annual event features: \n\nLocal artisan vendors and makers\nCanton’s 3rd annual Youth Art Fair\nLive music and family entertainment\nFree kids crafts and hands-on art activities\nFood trucks and fall-themed treats\nSeasonal beer and other beverages\nCommunity art displays and demos\n\nSet against the scenic backdrop of Preservation Park\, ARToberfest brings together artists\, families\, and neighbors for an afternoon of inspiration and seasonal celebration. Whether you’re shopping local\, making art\, or simply enjoying the crisp fall air\, there’s something for everyone. \nHosted by the Village Arts Factory\, Village Theater at Cherry Hill\, and Canton Leisure Services\, this event is free and open to the public. Come out and make some memories!
URL:https://villageartsfactory.com/event/artoberfest-family-fall-festival/
LOCATION:Preservation Park\, 500 Ridge Rd N\, Canton\, MI\, 48188\, United States
CATEGORIES:Public Events
ATTACH;FMTTYPE=image/jpeg:https://villageartsfactory.com/wp-content/uploads/2025/07/Artoberfest-CHV-Logo.New_-scaled.jpg
ORGANIZER;CN="Village Arts Factory":MAILTO:kevin.ryan@cantonmi.gov
END:VEVENT
END:VCALENDAR